BEGIN:VCALENDAR
VERSION:2.0
PRODID:-//Pier450 in St. Mary&#039;s County, MD | Boutique Motel, Restaurant and Beach - ECPv6.15.20//NONSGML v1.0//EN
CALSCALE:GREGORIAN
METHOD:PUBLISH
X-ORIGINAL-URL:https://pier450.com
X-WR-CALDESC:Events for Pier450 in St. Mary&#039;s County, MD | Boutique Motel, Restaurant and Beach
REFRESH-INTERVAL;VALUE=DURATION:PT1H
X-Robots-Tag:noindex
X-PUBLISHED-TTL:PT1H
BEGIN:VTIMEZONE
TZID:UTC
BEGIN:STANDARD
TZOFFSETFROM:+0000
TZOFFSETTO:+0000
TZNAME:UTC
DTSTART:20230101T000000
END:STANDARD
END:VTIMEZONE
BEGIN:VEVENT
DTSTART;TZID=UTC:20240602T090000
DTEND;TZID=UTC:20240602T100000
DTSTAMP:20260419T124731
CREATED:20240322T173425Z
LAST-MODIFIED:20240602T234226Z
UID:10000996-1717318800-1717322400@pier450.com
SUMMARY:Yoga with Shannon Dame
DESCRIPTION:An exciting addition to the calendar at Pier450 — Yoga on the deck with Shannon Dame.\n\n60 minutes of yoga\, stretching and breathing \n$25/person includes a complimentary mimosa after class
URL:https://pier450.com/event/yoga-with-shannon-dame/2024-06-02/
LOCATION:Pier450\, 48342 Wynne Road\, Ridge\, 20680\, United States
CATEGORIES:Activities,Fitness
ATTACH;FMTTYPE=image/jpeg:https://pier450.com/wp-content/uploads/2024/03/yoga-promo-shannon.jpg
END:VEVENT
BEGIN:VEVENT
DTSTART;TZID=UTC:20240609T183000
DTEND;TZID=UTC:20240609T200000
DTSTAMP:20260419T124731
CREATED:20240422T183327Z
LAST-MODIFIED:20240422T192443Z
UID:10000984-1717957800-1717963200@pier450.com
SUMMARY:Sunset Cruises with Captain Phil
DESCRIPTION:6/9  6:30 pm  Reserve your spot\n7/21  6:15 pm  Reserve your spot\n8/11  6:00 pm  Reserve your spot\n9/15  5:15 pm  Reserve your spot
URL:https://pier450.com/event/sunset-cruises-with-captain-phil/2024-06-09/
LOCATION:Pier450\, 48342 Wynne Road\, Ridge\, 20680\, United States
CATEGORIES:Activities
ATTACH;FMTTYPE=image/jpeg:https://pier450.com/wp-content/uploads/2024/03/sunset-cruises-at-p450.jpg
END:VEVENT
BEGIN:VEVENT
DTSTART;TZID=UTC:20240629T100000
DTEND;TZID=UTC:20240629T120000
DTSTAMP:20260419T124731
CREATED:20230720T051254Z
LAST-MODIFIED:20240424T203200Z
UID:10000989-1719655200-1719662400@pier450.com
SUMMARY:Dog Days at Pier450
DESCRIPTION:
URL:https://pier450.com/event/dog-days-at-pier450/2024-06-29/
LOCATION:Pier450\, 48342 Wynne Road\, Ridge\, 20680\, United States
CATEGORIES:Activities,Other
ATTACH;FMTTYPE=image/jpeg:https://pier450.com/wp-content/uploads/2023/07/dog-days.jpg
END:VEVENT
BEGIN:VEVENT
DTSTART;TZID=UTC:20240630T090000
DTEND;TZID=UTC:20240630T101500
DTSTAMP:20260419T124731
CREATED:20240322T171950Z
LAST-MODIFIED:20240322T173211Z
UID:10000960-1719738000-1719742500@pier450.com
SUMMARY:Hatha Vinyasa Yoga with Nancy Uma
DESCRIPTION:An exciting addition to the calendar at Pier450 — Hatha Vinyasa yoga on the beach with Nancy Uma.\n\n75 minutes of yoga\, stretching and breathing \n$30 includes a mimosa after class. \n\n\nNancy Uma Teaches a Hatha combination Vinyasa yoga practice. Traditional poses are held longer and some poses are integrated into a flow (Vinyasa). Along with the traditional poses\, she will introduce yin (long stretching ) with breathing practice. Wrapping up the class with a long-guided relaxation. She offers an intentional\, mindful practice that allows you to connect to your physical\, mental and emotional body. A balanced combination leaving the body and mind both calm and clear.
URL:https://pier450.com/event/yoga-at-pier450/2024-06-30/
LOCATION:Pier450\, 48342 Wynne Road\, Ridge\, 20680\, United States
CATEGORIES:Activities,Fitness
ATTACH;FMTTYPE=image/jpeg:https://pier450.com/wp-content/uploads/2023/09/yoga-promo-new.jpg
END:VEVENT
END:VCALENDAR