BEGIN:VCALENDAR
VERSION:2.0
PRODID:-//Pier450 in St. Mary&#039;s County, MD | Boutique Motel, Restaurant and Beach - ECPv6.15.20//NONSGML v1.0//EN
CALSCALE:GREGORIAN
METHOD:PUBLISH
X-ORIGINAL-URL:https://pier450.com
X-WR-CALDESC:Events for Pier450 in St. Mary&#039;s County, MD | Boutique Motel, Restaurant and Beach
REFRESH-INTERVAL;VALUE=DURATION:PT1H
X-Robots-Tag:noindex
X-PUBLISHED-TTL:PT1H
BEGIN:VTIMEZONE
TZID:UTC
BEGIN:STANDARD
TZOFFSETFROM:+0000
TZOFFSETTO:+0000
TZNAME:UTC
DTSTART:20240101T000000
END:STANDARD
END:VTIMEZONE
BEGIN:VEVENT
DTSTART;TZID=UTC:20251123T110000
DTEND;TZID=UTC:20251123T160000
DTSTAMP:20260419T140051
CREATED:20241123T160654Z
LAST-MODIFIED:20250916T134621Z
UID:10001039-1763895600-1763913600@pier450.com
SUMMARY:Thanksgiving Bake Sale
DESCRIPTION:
URL:https://pier450.com/event/thanksgiving-bake-sale/
LOCATION:Pier450\, 48342 Wynne Road\, Ridge\, 20680\, United States
CATEGORIES:Activities,Holiday/Special Occasion
ATTACH;FMTTYPE=image/jpeg:https://pier450.com/wp-content/uploads/2024/11/bake-featured.jpg
END:VEVENT
BEGIN:VEVENT
DTSTART;TZID=UTC:20251128T173000
DTEND;TZID=UTC:20251128T193000
DTSTAMP:20260419T140051
CREATED:20251027T124010Z
LAST-MODIFIED:20251027T124126Z
UID:10001128-1764351000-1764358200@pier450.com
SUMMARY:Piano Bar at Pier450
DESCRIPTION:[vc_row css_animation=”” row_type=”row” use_row_as_full_screen_section=”no” type=”full_width” angled_section=”no” text_align=”left” background_image_as_pattern=”without_pattern”][vc_column][vc_column_text css=””][/vc_column_text][/vc_column][/vc_row]
URL:https://pier450.com/event/piano-bar-at-pier450/2025-11-28/
LOCATION:Pier450\, 48342 Wynne Road\, Ridge\, 20680\, United States
CATEGORIES:Activities
ATTACH;FMTTYPE=image/jpeg:https://pier450.com/wp-content/uploads/2025/10/piano.jpg
END:VEVENT
BEGIN:VEVENT
DTSTART;TZID=UTC:20251205T173000
DTEND;TZID=UTC:20251205T193000
DTSTAMP:20260419T140051
CREATED:20251103T221316Z
LAST-MODIFIED:20251103T221328Z
UID:10001129-1764955800-1764963000@pier450.com
SUMMARY:Piano Bar at Pier450
DESCRIPTION:[vc_row css_animation=”” row_type=”row” use_row_as_full_screen_section=”no” type=”full_width” angled_section=”no” text_align=”left” background_image_as_pattern=”without_pattern”][vc_column][vc_column_text css=””][/vc_column_text][/vc_column][/vc_row]
URL:https://pier450.com/event/piano-bar-at-pier450-3/
LOCATION:Pier450\, 48342 Wynne Road\, Ridge\, 20680\, United States
CATEGORIES:Activities
ATTACH;FMTTYPE=image/jpeg:https://pier450.com/wp-content/uploads/2025/10/piano.jpg
END:VEVENT
BEGIN:VEVENT
DTSTART;TZID=UTC:20251206T130000
DTEND;TZID=UTC:20251206T150000
DTSTAMP:20260419T140051
CREATED:20251120T185113Z
LAST-MODIFIED:20251120T185302Z
UID:10001654-1765026000-1765033200@pier450.com
SUMMARY:Stuffed Ham Demonstration with Ray Raley and Jennifer Raley Hollingsworth
DESCRIPTION:[vc_row css_animation=”” row_type=”row” use_row_as_full_screen_section=”no” type=”full_width” angled_section=”no” text_align=”left” background_image_as_pattern=”without_pattern”][vc_column width=”1/2″][vc_single_image image=”8536″ img_size=”full” css=”” qode_css_animation=””][/vc_column][vc_column width=”1/2″][vc_column_text css=””]They’re back — and what a treat! If you’re from Southern Maryland\, we don’t have to tell you the significance of the stuffed ham around these parts. If you’re not\, well\, it’s a Southern Maryland thing (IYKYK). And such an interesting one at that! \nRay Raley and daughter Jennifer Raley Hollingsworth will be treating us to a stuffed ham demonstration in the restaurant Saturday\, December 6th from 1-3:00 pm. Just $30 includes a premium stuffed ham sandwich lunch and adult beverage (beer or select wine). And lots of laughs. \nRaley’s Town and Country Market in South County was not only an institution for many\, many years — they prepared HUNDREDS of stuffed hams in their time. Come learn from the masters. \nReserve your spot here \nAnd check out this article in the New York Times. A local tradition went all glitterati.[/vc_column_text][/vc_column][/vc_row]
URL:https://pier450.com/event/stuffed-ham-demonstration-with-ray-raley-and-jennifer-raley-hollingsworth/
LOCATION:Pier450\, 48342 Wynne Road\, Ridge\, 20680\, United States
CATEGORIES:Activities,Holiday/Special Occasion
ATTACH;FMTTYPE=image/jpeg:https://pier450.com/wp-content/uploads/2025/11/ham.jpg
END:VEVENT
BEGIN:VEVENT
DTSTART;TZID=UTC:20251212T173000
DTEND;TZID=UTC:20251212T193000
DTSTAMP:20260419T140051
CREATED:20251103T221423Z
LAST-MODIFIED:20251103T221435Z
UID:10001130-1765560600-1765567800@pier450.com
SUMMARY:Piano Bar at Pier450
DESCRIPTION:[vc_row css_animation=”” row_type=”row” use_row_as_full_screen_section=”no” type=”full_width” angled_section=”no” text_align=”left” background_image_as_pattern=”without_pattern”][vc_column][vc_column_text css=””][/vc_column_text][/vc_column][/vc_row]
URL:https://pier450.com/event/piano-bar-at-pier450-4/
LOCATION:Pier450\, 48342 Wynne Road\, Ridge\, 20680\, United States
CATEGORIES:Activities
ATTACH;FMTTYPE=image/jpeg:https://pier450.com/wp-content/uploads/2025/10/piano.jpg
END:VEVENT
BEGIN:VEVENT
DTSTART;TZID=UTC:20251213T140000
DTEND;TZID=UTC:20251213T160000
DTSTAMP:20260419T140051
CREATED:20250924T000203Z
LAST-MODIFIED:20251210T152857Z
UID:10001123-1765634400-1765641600@pier450.com
SUMMARY:*** SOLD OUT *** A Perfectly Proper Christmas Afternoon Tea
DESCRIPTION:[vc_row css_animation=”” row_type=”row” use_row_as_full_screen_section=”no” type=”full_width” angled_section=”no” text_align=”left” background_image_as_pattern=”without_pattern”][vc_column][vc_column_text css=””] \nRESERVE YOUR SPOT \n[/vc_column_text][/vc_column][/vc_row]
URL:https://pier450.com/event/a-perfectly-proper-christmas-afternoon-tea-2/
LOCATION:Pier450\, 48342 Wynne Road\, Ridge\, 20680\, United States
CATEGORIES:Activities,Holiday/Special Occasion
ATTACH;FMTTYPE=image/jpeg:https://pier450.com/wp-content/uploads/2024/11/sold-out2.jpg
END:VEVENT
BEGIN:VEVENT
DTSTART;TZID=UTC:20251213T180000
DTEND;TZID=UTC:20251213T210000
DTSTAMP:20260419T140051
CREATED:20251210T153847Z
LAST-MODIFIED:20251210T153847Z
UID:10001656-1765648800-1765659600@pier450.com
SUMMARY:Piano Bar at Pier450: Christmas Classics with Sarah Gravelle
DESCRIPTION:[vc_row css_animation=”” row_type=”row” use_row_as_full_screen_section=”no” type=”full_width” angled_section=”no” text_align=”left” background_image_as_pattern=”without_pattern”][vc_column][vc_column_text css=””][/vc_column_text][/vc_column][/vc_row]
URL:https://pier450.com/event/piano-bar-at-pier450-christmas-classics-with-sarah-gravelle/
LOCATION:Pier450\, 48342 Wynne Road\, Ridge\, 20680\, United States
CATEGORIES:Activities
ATTACH;FMTTYPE=image/jpeg:https://pier450.com/wp-content/uploads/2025/12/sarah.jpg
END:VEVENT
BEGIN:VEVENT
DTSTART;TZID=UTC:20251214T140000
DTEND;TZID=UTC:20251214T160000
DTSTAMP:20260419T140051
CREATED:20251209T005831Z
LAST-MODIFIED:20251209T005831Z
UID:10001655-1765720800-1765728000@pier450.com
SUMMARY:A Perfectly Proper Christmas Afternoon Tea
DESCRIPTION:[vc_row css_animation=”” row_type=”row” use_row_as_full_screen_section=”no” type=”full_width” angled_section=”no” text_align=”left” background_image_as_pattern=”without_pattern”][vc_column][vc_column_text css=””] \nRESERVE YOUR SPOT \n[/vc_column_text][/vc_column][/vc_row]
URL:https://pier450.com/event/a-perfectly-proper-christmas-afternoon-tea/
LOCATION:Pier450\, 48342 Wynne Road\, Ridge\, 20680\, United States
CATEGORIES:Activities,Holiday/Special Occasion
ATTACH;FMTTYPE=image/jpeg:https://pier450.com/wp-content/uploads/2025/09/xmas-tea.jpg
END:VEVENT
BEGIN:VEVENT
DTSTART;TZID=UTC:20251217T180000
DTEND;TZID=UTC:20251217T210000
DTSTAMP:20260419T140051
CREATED:20251105T165654Z
LAST-MODIFIED:20251210T184134Z
UID:10001394-1765994400-1766005200@pier450.com
SUMMARY:Peggy's Test Kitchen
DESCRIPTION:[vc_row css_animation=”” row_type=”row” use_row_as_full_screen_section=”no” type=”full_width” angled_section=”no” text_align=”left” background_image_as_pattern=”without_pattern”][vc_column][vc_column_text css=””][/vc_column_text][vc_column_text css=””] \nEach Thursday\, Pier450 Owner Peggy Binzel will be in the kitchen testing her own culinary skills\nas she prepares a three course dinner for a small table. Join in the fun. \nPrice: $45/person plus tax and gratuity \n[/vc_column_text][/vc_column][/vc_row]
URL:https://pier450.com/event/peggys-test-kitchen-2/
LOCATION:Pier450\, 48342 Wynne Road\, Ridge\, 20680\, United States
CATEGORIES:Activities,Chef's Tastings
ATTACH;FMTTYPE=image/jpeg:https://pier450.com/wp-content/uploads/2025/10/test-kitchen.jpg
END:VEVENT
BEGIN:VEVENT
DTSTART;TZID=UTC:20251220T140000
DTEND;TZID=UTC:20251220T160000
DTSTAMP:20260419T140051
CREATED:20231123T001136Z
LAST-MODIFIED:20251210T152907Z
UID:10000052-1766239200-1766246400@pier450.com
SUMMARY:*** SOLD OUT *** Holiday Cookie Decorating for Grown-Ups!
DESCRIPTION:
URL:https://pier450.com/event/christmas-with-carlos/
LOCATION:Pier450\, 48342 Wynne Road\, Ridge\, 20680\, United States
CATEGORIES:Activities,Holiday/Special Occasion
ATTACH;FMTTYPE=image/jpeg:https://pier450.com/wp-content/uploads/2024/11/sold-out1.jpg
END:VEVENT
BEGIN:VEVENT
DTSTART;TZID=UTC:20251221T173000
DTEND;TZID=UTC:20251221T200000
DTSTAMP:20260419T140051
CREATED:20251120T182745Z
LAST-MODIFIED:20251120T183457Z
UID:10001652-1766338200-1766347200@pier450.com
SUMMARY:The Twelve Bites of Christmas - Chefs' Tasting Dinner
DESCRIPTION:[vc_row css_animation=”” row_type=”row” use_row_as_full_screen_section=”no” type=”full_width” angled_section=”no” text_align=”left” background_image_as_pattern=”without_pattern”][vc_column][vc_column_text css=””] \nRESERVE YOUR SPOT \n \n\n\n\nA PARTRIDGE IN A PEAR TREE\nCider-poached pear with creamy goat cheese\, topped with (three!) spiced walnuts and a honey glaze \nTWO TURTLE DOVES\nTruffled mushroom duels on parmesan thyme savory shortbread \nTHREE FRENCH HENS\nSpiced walnuts (served atop the cider-poached pear) \nFOUR CALLING BIRDS\nSmoked chicken on black charcoal crostini \nFIVE GOLDEN RINGS\nGolden fried fresh calamari rings with zesty aoili \nSIX GEESE A-LAYING\nDeviled quail egg with dill \nSEVEN SWANS A-SWIMMING\nWhite bean and rosemary puree soup \nEIGHT MAIDS A-MILKING\nBeef tenderloin bite in a mushroom cream sauce \nNINE LADIES DANCING\nMeringue with a raspberry swirl \nTEN LORDS A-LEAPING\nMini yule log \nELEVEN PIPERS PIPING\nPirouette with dark chocolate and crushed peppermint \nTWELVE DRUMMERS DRUMMING\nWhite chocolate-covered pretzel sticks \n\n\n[/vc_column_text][/vc_column][/vc_row]
URL:https://pier450.com/event/twelve-bites-christmas/
LOCATION:Pier450\, 48342 Wynne Road\, Ridge\, 20680\, United States
CATEGORIES:Activities,Chef's Tastings,Holiday/Special Occasion
ATTACH;FMTTYPE=image/jpeg:https://pier450.com/wp-content/uploads/2025/11/12-bites-promo.jpg
END:VEVENT
BEGIN:VEVENT
DTSTART;TZID=UTC:20251223T160000
DTEND;TZID=UTC:20251223T200000
DTSTAMP:20260419T140051
CREATED:20251215T143003Z
LAST-MODIFIED:20251215T144551Z
UID:10001658-1766505600-1766520000@pier450.com
SUMMARY:Special Holiday Hours (Dec. 23rd) + Live Music!
DESCRIPTION:[vc_row css_animation=”” row_type=”row” use_row_as_full_screen_section=”no” type=”full_width” angled_section=”no” text_align=”left” background_image_as_pattern=”without_pattern”][vc_column][vc_column_text css=””] \nOur holiday menu is here\, offered December 19th through the 31st! \nWe’ll be open special hours Christmas Eve AND Christmas Eve Eve (that’s a Tuesday — an added night for us). \nLots of fabulous food\, lots of activities\, lots of live music\, lots of gifts.\nCelebrate in style this holiday. 🎄🎅🏼⛄️ \n \n \n[/vc_column_text][/vc_column][/vc_row][vc_row css_animation=”” row_type=”row” use_row_as_full_screen_section=”no” type=”full_width” angled_section=”no” text_align=”left” background_image_as_pattern=”without_pattern”][vc_column][vc_single_image image=”8587″ img_size=”full” css=”” qode_css_animation=””][/vc_column][/vc_row]
URL:https://pier450.com/event/special-holiday-hours/
LOCATION:Pier450\, 48342 Wynne Road\, Ridge\, 20680\, United States
CATEGORIES:Activities
ATTACH;FMTTYPE=image/jpeg:https://pier450.com/wp-content/uploads/2025/12/special-hours.jpg
END:VEVENT
BEGIN:VEVENT
DTSTART;TZID=UTC:20251223T180000
DTEND;TZID=UTC:20251223T200000
DTSTAMP:20260419T140051
CREATED:20251211T152928Z
LAST-MODIFIED:20251211T173635Z
UID:10001657-1766512800-1766520000@pier450.com
SUMMARY:Special Holiday Hours + Floating Guitars w/Alex Bizzarro & Jim Stephanson
DESCRIPTION:[vc_row css_animation=”” row_type=”row” use_row_as_full_screen_section=”no” type=”full_width” angled_section=”no” text_align=”left” background_image_as_pattern=”without_pattern”][vc_column][vc_column_text css=””] \n[/vc_column_text][/vc_column][/vc_row]
URL:https://pier450.com/event/floating-guitars-with-alex-bizzarro-jim-stephanson/
LOCATION:Pier450\, 48342 Wynne Road\, Ridge\, 20680\, United States
CATEGORIES:Activities
ATTACH;FMTTYPE=image/jpeg:https://pier450.com/wp-content/uploads/2025/12/flaoting.jpg
END:VEVENT
BEGIN:VEVENT
DTSTART;TZID=UTC:20251226T180000
DTEND;TZID=UTC:20251226T200000
DTSTAMP:20260419T140051
CREATED:20250305T165500Z
LAST-MODIFIED:20251215T140911Z
UID:10001071-1766772000-1766779200@pier450.com
SUMMARY:Jonah Orevillo Live in the Piano Bar
DESCRIPTION:[vc_row css_animation=”” row_type=”row” use_row_as_full_screen_section=”no” type=”full_width” angled_section=”no” text_align=”left” background_image_as_pattern=”without_pattern”][vc_column][vc_column_text css=””] \n\n\n \n\n\nJonah Orevillo Live in the Piano Bar at Pier450\nFriday\, December 26\n6:00-8:00\nJazz pianist extraordinaire\n\nNo reservations required for the bar\n\n\n\n\nDinner Reservations\n[/vc_column_text][/vc_column][/vc_row]
URL:https://pier450.com/event/jonah-orevillo-live-in-the-piano-bar/
LOCATION:Pier450\, 48342 Wynne Road\, Ridge\, 20680\, United States
CATEGORIES:Activities,Live Jazz at Pier450
ATTACH;FMTTYPE=image/jpeg:https://pier450.com/wp-content/uploads/2025/10/piano.jpg
END:VEVENT
BEGIN:VEVENT
DTSTART;TZID=UTC:20260219T180000
DTEND;TZID=UTC:20260219T200000
DTSTAMP:20260419T140051
CREATED:20260130T210107Z
LAST-MODIFIED:20260215T224511Z
UID:10001661-1771524000-1771531200@pier450.com
SUMMARY:Wines of Uruguay - A 5-Course Tasting Dinner with Wine Pairings
DESCRIPTION:[vc_row css_animation=”” row_type=”row” use_row_as_full_screen_section=”no” type=”full_width” angled_section=”no” text_align=”left” background_image_as_pattern=”without_pattern”][vc_column][vc_column_text css=””] \nRegister Here \n \nFirst Course\nFrisee Salad\nPaired with Garzon Rose of Pinot Noir \nSecond Course\nCrispy Calamari\nPaired with Garzon Albarino Reserva \nThird Course\nWild Mushroom Risotto\nPaired with Garzon Cabernet Franc Reserva \nFourth Course\nDuck Cassoulet\nGarzon Single Vineyard Tannat \nFifth Course\nDark Chocolate Lava Cakes\nSparkling Extra Brut NV  \n[/vc_column_text][/vc_column][/vc_row]
URL:https://pier450.com/event/wines-of-uruguay-a-5-course-tasting-dinnerwith-wine-pairings/
LOCATION:Pier450\, 48342 Wynne Road\, Ridge\, 20680\, United States
CATEGORIES:Activities,Chef's Tastings
ATTACH;FMTTYPE=image/jpeg:https://pier450.com/wp-content/uploads/2026/01/uruguay-promo.jpg
END:VEVENT
BEGIN:VEVENT
DTSTART;TZID=UTC:20260301T180000
DTEND;TZID=UTC:20260301T200000
DTSTAMP:20260419T140051
CREATED:20241210T165302Z
LAST-MODIFIED:20260129T212410Z
UID:10001042-1772388000-1772395200@pier450.com
SUMMARY:Tasting Menu of International Street Foods - NEW DATE!
DESCRIPTION:[vc_row css_animation=”” row_type=”row” use_row_as_full_screen_section=”no” type=”full_width” angled_section=”no” text_align=”left” background_image_as_pattern=”without_pattern”][vc_column][vc_column_text css=””] \nRegister Here \n[/vc_column_text][/vc_column][/vc_row]
URL:https://pier450.com/event/international-street-food-tasting/
LOCATION:Pier450\, 48342 Wynne Road\, Ridge\, 20680\, United States
CATEGORIES:Activities,Chef's Tastings
ATTACH;FMTTYPE=image/jpeg:https://pier450.com/wp-content/uploads/2024/12/tasting-menu-featured.jpg
END:VEVENT
BEGIN:VEVENT
DTSTART;TZID=UTC:20260321T190000
DTEND;TZID=UTC:20260321T220000
DTSTAMP:20260419T140051
CREATED:20241123T160255Z
LAST-MODIFIED:20260317T161604Z
UID:10001040-1774119600-1774130400@pier450.com
SUMMARY:Jazz & Soul with Latrice Carr
DESCRIPTION:[vc_row css_animation=”” row_type=”row” use_row_as_full_screen_section=”no” type=”full_width” angled_section=”no” text_align=”left” background_image_as_pattern=”without_pattern”][vc_column][vc_column_text css=””] \nDinner Reservations \nNo cover! $35/person minimum in the dining room\, 2 drink minimum in the bar. \n[/vc_column_text][/vc_column][/vc_row]
URL:https://pier450.com/event/jazz-and-soul/
LOCATION:Pier450\, 48342 Wynne Road\, Ridge\, 20680\, United States
CATEGORIES:Activities,Live Jazz at Pier450
ATTACH;FMTTYPE=image/jpeg:https://pier450.com/wp-content/uploads/2024/11/jazz-featured-1.jpg
END:VEVENT
BEGIN:VEVENT
DTSTART;TZID=UTC:20260328T140000
DTEND;TZID=UTC:20260328T160000
DTSTAMP:20260419T140051
CREATED:20260113T190956Z
LAST-MODIFIED:20260325T172216Z
UID:10001043-1774706400-1774713600@pier450.com
SUMMARY:Mad Hatter's Tea Party: NOW JUST $35!
DESCRIPTION:[vc_row css_animation=”” row_type=”row” use_row_as_full_screen_section=”no” type=”full_width” angled_section=”no” text_align=”left” background_image_as_pattern=”without_pattern”][vc_column][vc_column_text css=””] \nRegister Here \n[/vc_column_text][/vc_column][/vc_row]
URL:https://pier450.com/event/mad-hatters-tea-party/
LOCATION:Pier450\, 48342 Wynne Road\, Ridge\, 20680\, United States
CATEGORIES:Activities
ATTACH;FMTTYPE=image/jpeg:https://pier450.com/wp-content/uploads/2025/01/mad-hatter-featured.jpg
END:VEVENT
BEGIN:VEVENT
DTSTART;TZID=UTC:20260402T180000
DTEND;TZID=UTC:20260402T200000
DTSTAMP:20260419T140051
CREATED:20260122T172606Z
LAST-MODIFIED:20260325T205909Z
UID:10001659-1775152800-1775160000@pier450.com
SUMMARY:Five Course Chef's Tasting & Wine Pairing Dinner
DESCRIPTION:[vc_row css_animation=”” row_type=”row” use_row_as_full_screen_section=”no” type=”full_width” angled_section=”no” text_align=”left” background_image_as_pattern=”without_pattern”][vc_column][vc_column_text css=””] \nRegister Here \n \nFIRST COURSE\nChesapeake Blue Crab Salad\nEnglish pea tendrils\, shaved fennel\, Meyer lemon crème fraiche\, tarragon oil and an Old Bay-dusted brioche crisp\nWine Pairing: Pinos Gris \nSECOND COURSE\nPan-seared Pacific Halibut\nMorel mushroom and spring onion fricassee\, celery route velouté\, chive oil\, crispy shallot\nWine Pairing: Chardonnay \nTHIRD COURSE\nPotatoes Fondant\nCherry-aleppo gastrique\, spring pea puree\, roasted baby carrots and herbed jus with whipped garlic feta\nWine Pairing: Pinot Noir \nFOURTH COURSE\nBraised Wagyu Beef Cheek\nWhite miso-dashi jus\, parsnip puree and roasted trumpet mushrooms in an aged sherry vinegar reduction\nWine Pairing: Pinot Noir Reserve \nFIFTH COURSE\nValrhona Dark Chocolate Ganache Tart\nOregon hazel nut praline\, fleur de sel caramel and Chantilly cream \n[/vc_column_text][/vc_column][/vc_row]
URL:https://pier450.com/event/cooper-mountain/
LOCATION:Pier450\, 48342 Wynne Road\, Ridge\, 20680\, United States
CATEGORIES:Activities,Chef's Tastings
ATTACH;FMTTYPE=image/jpeg:https://pier450.com/wp-content/uploads/2026/01/cooper-mount.jpg
END:VEVENT
BEGIN:VEVENT
DTSTART;TZID=UTC:20260418T110000
DTEND;TZID=UTC:20260418T140000
DTSTAMP:20260419T140051
CREATED:20260321T150125Z
LAST-MODIFIED:20260403T000341Z
UID:10001668-1776510000-1776520800@pier450.com
SUMMARY:In Broad Daylight: A Properly Improper Drag Brunch *** SOLD OUT! ***
DESCRIPTION:[vc_row css_animation=”” row_type=”row” use_row_as_full_screen_section=”no” type=”full_width” angled_section=”no” text_align=”left” background_image_as_pattern=”without_pattern”][vc_column][vc_column_text css=””][/vc_column_text][/vc_column][/vc_row][vc_row css_animation=”” row_type=”row” use_row_as_full_screen_section=”no” type=”full_width” angled_section=”no” text_align=”left” background_image_as_pattern=”without_pattern”][vc_column width=”1/3″][vc_single_image image=”8786″ img_size=”full” css=”” qode_css_animation=””][vc_column_text css=””]Angelica Lize – Emcee\nfacebook[/vc_column_text][/vc_column][vc_column width=”1/3″][vc_single_image image=”8788″ img_size=”full” css=”” qode_css_animation=””][vc_column_text css=””]Regina Jozet Adams\nfacebook[/vc_column_text][/vc_column][vc_column width=”1/3″][vc_single_image image=”8787″ img_size=”full” css=”” qode_css_animation=””][vc_column_text css=””]Ashlee Jozet Adams\nfacebook[/vc_column_text][/vc_column][/vc_row]
URL:https://pier450.com/event/in-broad-daylight-a-properly-improper-drag-brunch/
LOCATION:Pier450\, 48342 Wynne Road\, Ridge\, 20680\, United States
CATEGORIES:Activities
ATTACH;FMTTYPE=image/jpeg:https://pier450.com/wp-content/uploads/2026/03/drag-featured.jpg
END:VEVENT
BEGIN:VEVENT
DTSTART;TZID=UTC:20260503T170000
DTEND;TZID=UTC:20260503T190000
DTSTAMP:20260419T140051
CREATED:20260415T141428Z
LAST-MODIFIED:20260415T141502Z
UID:10001669-1777827600-1777834800@pier450.com
SUMMARY:RENFEAST at Pier450
DESCRIPTION:[vc_row css_animation=”” row_type=”row” use_row_as_full_screen_section=”no” type=”full_width” angled_section=”no” text_align=”left” background_image_as_pattern=”without_pattern”][vc_column][vc_column_text css=””] \nRegister Here \n \nFIRST COURSE\nPottage of Leeks & Almond Milk\nSilky leek soup simmered in housemade almond milk\, finished with verjuice and ground ginger.\nServed with a trencher of toasted sourdough \nSECOND COURSE\nSpit-Roasted Chicken\nHalf-roasted chicken based in herb butter\, served over barley pilar with cameline sauce —\ncinnamon\, ginger\, vinegar & toasted breadcrumbs \nTHIRD COURSE\nDaryoles with Saffron Custard\nIndividual pastry shells filled with a delicate saffron-and-honey custard gently spiced\nwith mace (nutmeg seed aril) and rosewater \n[/vc_column_text][/vc_column][/vc_row]
URL:https://pier450.com/event/renfeast/
LOCATION:Pier450\, 48342 Wynne Road\, Ridge\, 20680\, United States
CATEGORIES:Activities,Chef's Tastings
ATTACH;FMTTYPE=image/jpeg:https://pier450.com/wp-content/uploads/2026/04/renfeast-featured.jpg
END:VEVENT
END:VCALENDAR