BEGIN:VCALENDAR
VERSION:2.0
PRODID:-//Pier450 in St. Mary&#039;s County, MD | Boutique Motel, Restaurant and Beach - ECPv6.15.20//NONSGML v1.0//EN
CALSCALE:GREGORIAN
METHOD:PUBLISH
X-ORIGINAL-URL:https://pier450.com
X-WR-CALDESC:Events for Pier450 in St. Mary&#039;s County, MD | Boutique Motel, Restaurant and Beach
REFRESH-INTERVAL;VALUE=DURATION:PT1H
X-Robots-Tag:noindex
X-PUBLISHED-TTL:PT1H
BEGIN:VTIMEZONE
TZID:UTC
BEGIN:STANDARD
TZOFFSETFROM:+0000
TZOFFSETTO:+0000
TZNAME:UTC
DTSTART:20220101T000000
END:STANDARD
END:VTIMEZONE
BEGIN:VEVENT
DTSTART;TZID=UTC:20260402T180000
DTEND;TZID=UTC:20260402T200000
DTSTAMP:20260420T114700
CREATED:20260122T172606Z
LAST-MODIFIED:20260325T205909Z
UID:10001659-1775152800-1775160000@pier450.com
SUMMARY:Five Course Chef's Tasting & Wine Pairing Dinner
DESCRIPTION:[vc_row css_animation=”” row_type=”row” use_row_as_full_screen_section=”no” type=”full_width” angled_section=”no” text_align=”left” background_image_as_pattern=”without_pattern”][vc_column][vc_column_text css=””] \nRegister Here \n \nFIRST COURSE\nChesapeake Blue Crab Salad\nEnglish pea tendrils\, shaved fennel\, Meyer lemon crème fraiche\, tarragon oil and an Old Bay-dusted brioche crisp\nWine Pairing: Pinos Gris \nSECOND COURSE\nPan-seared Pacific Halibut\nMorel mushroom and spring onion fricassee\, celery route velouté\, chive oil\, crispy shallot\nWine Pairing: Chardonnay \nTHIRD COURSE\nPotatoes Fondant\nCherry-aleppo gastrique\, spring pea puree\, roasted baby carrots and herbed jus with whipped garlic feta\nWine Pairing: Pinot Noir \nFOURTH COURSE\nBraised Wagyu Beef Cheek\nWhite miso-dashi jus\, parsnip puree and roasted trumpet mushrooms in an aged sherry vinegar reduction\nWine Pairing: Pinot Noir Reserve \nFIFTH COURSE\nValrhona Dark Chocolate Ganache Tart\nOregon hazel nut praline\, fleur de sel caramel and Chantilly cream \n[/vc_column_text][/vc_column][/vc_row]
URL:https://pier450.com/event/cooper-mountain/
LOCATION:Pier450\, 48342 Wynne Road\, Ridge\, 20680\, United States
CATEGORIES:Activities,Chef's Tastings
ATTACH;FMTTYPE=image/jpeg:https://pier450.com/wp-content/uploads/2026/01/cooper-mount.jpg
END:VEVENT
BEGIN:VEVENT
DTSTART;TZID=UTC:20260301T180000
DTEND;TZID=UTC:20260301T200000
DTSTAMP:20260420T114700
CREATED:20241210T165302Z
LAST-MODIFIED:20260129T212410Z
UID:10001042-1772388000-1772395200@pier450.com
SUMMARY:Tasting Menu of International Street Foods - NEW DATE!
DESCRIPTION:[vc_row css_animation=”” row_type=”row” use_row_as_full_screen_section=”no” type=”full_width” angled_section=”no” text_align=”left” background_image_as_pattern=”without_pattern”][vc_column][vc_column_text css=””] \nRegister Here \n[/vc_column_text][/vc_column][/vc_row]
URL:https://pier450.com/event/international-street-food-tasting/
LOCATION:Pier450\, 48342 Wynne Road\, Ridge\, 20680\, United States
CATEGORIES:Activities,Chef's Tastings
ATTACH;FMTTYPE=image/jpeg:https://pier450.com/wp-content/uploads/2024/12/tasting-menu-featured.jpg
END:VEVENT
BEGIN:VEVENT
DTSTART;TZID=UTC:20260219T180000
DTEND;TZID=UTC:20260219T200000
DTSTAMP:20260420T114700
CREATED:20260130T210107Z
LAST-MODIFIED:20260215T224511Z
UID:10001661-1771524000-1771531200@pier450.com
SUMMARY:Wines of Uruguay - A 5-Course Tasting Dinner with Wine Pairings
DESCRIPTION:[vc_row css_animation=”” row_type=”row” use_row_as_full_screen_section=”no” type=”full_width” angled_section=”no” text_align=”left” background_image_as_pattern=”without_pattern”][vc_column][vc_column_text css=””] \nRegister Here \n \nFirst Course\nFrisee Salad\nPaired with Garzon Rose of Pinot Noir \nSecond Course\nCrispy Calamari\nPaired with Garzon Albarino Reserva \nThird Course\nWild Mushroom Risotto\nPaired with Garzon Cabernet Franc Reserva \nFourth Course\nDuck Cassoulet\nGarzon Single Vineyard Tannat \nFifth Course\nDark Chocolate Lava Cakes\nSparkling Extra Brut NV  \n[/vc_column_text][/vc_column][/vc_row]
URL:https://pier450.com/event/wines-of-uruguay-a-5-course-tasting-dinnerwith-wine-pairings/
LOCATION:Pier450\, 48342 Wynne Road\, Ridge\, 20680\, United States
CATEGORIES:Activities,Chef's Tastings
ATTACH;FMTTYPE=image/jpeg:https://pier450.com/wp-content/uploads/2026/01/uruguay-promo.jpg
END:VEVENT
BEGIN:VEVENT
DTSTART;TZID=UTC:20251221T173000
DTEND;TZID=UTC:20251221T200000
DTSTAMP:20260420T114700
CREATED:20251120T182745Z
LAST-MODIFIED:20251120T183457Z
UID:10001652-1766338200-1766347200@pier450.com
SUMMARY:The Twelve Bites of Christmas - Chefs' Tasting Dinner
DESCRIPTION:[vc_row css_animation=”” row_type=”row” use_row_as_full_screen_section=”no” type=”full_width” angled_section=”no” text_align=”left” background_image_as_pattern=”without_pattern”][vc_column][vc_column_text css=””] \nRESERVE YOUR SPOT \n \n\n\n\nA PARTRIDGE IN A PEAR TREE\nCider-poached pear with creamy goat cheese\, topped with (three!) spiced walnuts and a honey glaze \nTWO TURTLE DOVES\nTruffled mushroom duels on parmesan thyme savory shortbread \nTHREE FRENCH HENS\nSpiced walnuts (served atop the cider-poached pear) \nFOUR CALLING BIRDS\nSmoked chicken on black charcoal crostini \nFIVE GOLDEN RINGS\nGolden fried fresh calamari rings with zesty aoili \nSIX GEESE A-LAYING\nDeviled quail egg with dill \nSEVEN SWANS A-SWIMMING\nWhite bean and rosemary puree soup \nEIGHT MAIDS A-MILKING\nBeef tenderloin bite in a mushroom cream sauce \nNINE LADIES DANCING\nMeringue with a raspberry swirl \nTEN LORDS A-LEAPING\nMini yule log \nELEVEN PIPERS PIPING\nPirouette with dark chocolate and crushed peppermint \nTWELVE DRUMMERS DRUMMING\nWhite chocolate-covered pretzel sticks \n\n\n[/vc_column_text][/vc_column][/vc_row]
URL:https://pier450.com/event/twelve-bites-christmas/
LOCATION:Pier450\, 48342 Wynne Road\, Ridge\, 20680\, United States
CATEGORIES:Activities,Chef's Tastings,Holiday/Special Occasion
ATTACH;FMTTYPE=image/jpeg:https://pier450.com/wp-content/uploads/2025/11/12-bites-promo.jpg
END:VEVENT
BEGIN:VEVENT
DTSTART;TZID=UTC:20251217T180000
DTEND;TZID=UTC:20251217T210000
DTSTAMP:20260420T114700
CREATED:20251105T165654Z
LAST-MODIFIED:20251210T184134Z
UID:10001394-1765994400-1766005200@pier450.com
SUMMARY:Peggy's Test Kitchen
DESCRIPTION:[vc_row css_animation=”” row_type=”row” use_row_as_full_screen_section=”no” type=”full_width” angled_section=”no” text_align=”left” background_image_as_pattern=”without_pattern”][vc_column][vc_column_text css=””][/vc_column_text][vc_column_text css=””] \nEach Thursday\, Pier450 Owner Peggy Binzel will be in the kitchen testing her own culinary skills\nas she prepares a three course dinner for a small table. Join in the fun. \nPrice: $45/person plus tax and gratuity \n[/vc_column_text][/vc_column][/vc_row]
URL:https://pier450.com/event/peggys-test-kitchen-2/
LOCATION:Pier450\, 48342 Wynne Road\, Ridge\, 20680\, United States
CATEGORIES:Activities,Chef's Tastings
ATTACH;FMTTYPE=image/jpeg:https://pier450.com/wp-content/uploads/2025/10/test-kitchen.jpg
END:VEVENT
BEGIN:VEVENT
DTSTART;TZID=UTC:20251211T180000
DTEND;TZID=UTC:20251211T200000
DTSTAMP:20260420T114700
CREATED:20241123T153249Z
LAST-MODIFIED:20251210T152832Z
UID:10001032-1765476000-1765483200@pier450.com
SUMMARY:*** SOLD OUT *** Holiday Chef's Tasting
DESCRIPTION:[vc_row css_animation=”” row_type=”row” use_row_as_full_screen_section=”no” type=”full_width” angled_section=”no” text_align=”left” background_image_as_pattern=”without_pattern”][vc_column][vc_column_text css=””] \n \n[/vc_column_text][/vc_column][/vc_row]
URL:https://pier450.com/event/holiday-tasting-dec-11/
LOCATION:Pier450\, 48342 Wynne Road\, Ridge\, 20680\, United States
CATEGORIES:Chef's Tastings,Holiday/Special Occasion
ATTACH;FMTTYPE=image/jpeg:https://pier450.com/wp-content/uploads/2024/11/sold-out3.jpg
END:VEVENT
BEGIN:VEVENT
DTSTART;TZID=UTC:20251120T183000
DTEND;TZID=UTC:20251120T203000
DTSTAMP:20260420T114700
CREATED:20251012T232226Z
LAST-MODIFIED:20251012T232556Z
UID:10001124-1763663400-1763670600@pier450.com
SUMMARY:Ancient Wines of the World - Wine Tasting Dinner
DESCRIPTION:[vc_row css_animation=”” row_type=”row” use_row_as_full_screen_section=”no” type=”full_width” angled_section=”no” text_align=”left” background_image_as_pattern=”without_pattern”][vc_column][vc_column_text css=””] \nRegister Here \n[/vc_column_text][/vc_column][/vc_row]
URL:https://pier450.com/event/ancient-wines-of-the-world-wine-tasting-dinner/
LOCATION:Pier450\, 48342 Wynne Road\, Ridge\, 20680\, United States
CATEGORIES:Activities,Chef's Tastings
ATTACH;FMTTYPE=image/jpeg:https://pier450.com/wp-content/uploads/2025/10/ancientwines.jpg
END:VEVENT
BEGIN:VEVENT
DTSTART;TZID=UTC:20251109T160000
DTEND;TZID=UTC:20251109T200000
DTSTAMP:20260420T114700
CREATED:20250923T235905Z
LAST-MODIFIED:20251027T124939Z
UID:10001122-1762704000-1762718400@pier450.com
SUMMARY:Celebrity Guest Chef Donnie Hammett
DESCRIPTION:[vc_row css_animation=”” row_type=”row” use_row_as_full_screen_section=”no” type=”full_width” angled_section=”no” text_align=”left” background_image_as_pattern=”without_pattern”][vc_column][vc_column_text css=””][/vc_column_text][/vc_column][/vc_row]
URL:https://pier450.com/event/donnie-hammett/
LOCATION:Pier450\, 48342 Wynne Road\, Ridge\, 20680\, United States
CATEGORIES:Activities,Chef's Tastings
ATTACH;FMTTYPE=image/jpeg:https://pier450.com/wp-content/uploads/2025/10/donne.jpg
END:VEVENT
BEGIN:VEVENT
DTSTART;TZID=UTC:20251102T180000
DTEND;TZID=UTC:20251102T200000
DTSTAMP:20260420T114700
CREATED:20250917T182050Z
LAST-MODIFIED:20251024T163741Z
UID:10001121-1762106400-1762113600@pier450.com
SUMMARY:Chef's Tasting Dinner – Africa
DESCRIPTION:[vc_row css_animation=”” row_type=”row” use_row_as_full_screen_section=”no” type=”full_width” angled_section=”no” text_align=”left” background_image_as_pattern=”without_pattern”][vc_column][vc_column_text css=””]\n\n \n[/vc_column_text][/vc_column][/vc_row]
URL:https://pier450.com/event/chefs-tasting-dinner-africa/
LOCATION:Pier450\, 48342 Wynne Road\, Ridge\, 20680\, United States
CATEGORIES:Chef's Tastings
ATTACH;FMTTYPE=image/jpeg:https://pier450.com/wp-content/uploads/2025/09/africa-featured.jpg
END:VEVENT
BEGIN:VEVENT
DTSTART;TZID=UTC:20251030T180000
DTEND;TZID=UTC:20251030T210000
DTSTAMP:20260420T114700
CREATED:20251030T155003Z
LAST-MODIFIED:20251105T165812Z
UID:10001391-1761847200-1761858000@pier450.com
SUMMARY:Peggy's Test Kitchen
DESCRIPTION:[vc_row css_animation=”” row_type=”row” use_row_as_full_screen_section=”no” type=”full_width” angled_section=”no” text_align=”left” background_image_as_pattern=”without_pattern”][vc_column][vc_column_text css=””][/vc_column_text][vc_column_text css=””] \nEach Thursday\, Pier450 Owner Peggy Binzel will be in the kitchen testing her own culinary skills\nas she prepares a three course dinner for a small table. Join in the fun. \nPrice: $45/person plus tax and gratuity \n  \nMENUS\n\nThursday\, October 30\nFIRST COURSE: Chopped Winter Salad\nSECOND COURSE: Marinated\, slow-cook pork over black bean cakes with creme fraiche\nTHIRD COURSE: Individual skillet brownies with ice cream \nThursday\, November 6\nFIRST COURSE: Pappa al pomodoro (Italian tomato soup)\nSECOND COURSE: Crispy lemon-ginger chicken\nTHIRD COURSE: Bananas Foster \nThursday\, November 13\nFIRST COURSE: French onion soup\nSECOND COURSE: Boeuf bourguignon\nTHIRD COURSE: French apple tart \n[/vc_column_text][/vc_column][/vc_row]
URL:https://pier450.com/event/peggys-test-kitchen/
LOCATION:Pier450\, 48342 Wynne Road\, Ridge\, 20680\, United States
CATEGORIES:Activities,Chef's Tastings
ATTACH;FMTTYPE=image/jpeg:https://pier450.com/wp-content/uploads/2025/10/test-kitchen.jpg
END:VEVENT
BEGIN:VEVENT
DTSTART;TZID=UTC:20251005T180000
DTEND;TZID=UTC:20251005T200000
DTSTAMP:20260420T114700
CREATED:20250909T183259Z
LAST-MODIFIED:20250909T183259Z
UID:10001118-1759687200-1759694400@pier450.com
SUMMARY:Chef's Tasting Dinner – South America
DESCRIPTION:
URL:https://pier450.com/event/chefs-tasting-dinner-south-america/
LOCATION:Pier450\, 48342 Wynne Road\, Ridge\, 20680\, United States
CATEGORIES:Chef's Tastings
ATTACH;FMTTYPE=image/jpeg:https://pier450.com/wp-content/uploads/2025/09/south-am.jpg
END:VEVENT
BEGIN:VEVENT
DTSTART;TZID=UTC:20241222T180000
DTEND;TZID=UTC:20241222T210000
DTSTAMP:20260420T114700
CREATED:20241123T151403Z
LAST-MODIFIED:20241126T212344Z
UID:10001029-1734890400-1734901200@pier450.com
SUMMARY:"An Austrian Christmas" Tasting Dinner
DESCRIPTION:Register Here
URL:https://pier450.com/event/an-austrian-christmas-tasting-dinner/
LOCATION:Pier450\, 48342 Wynne Road\, Ridge\, 20680\, United States
CATEGORIES:Chef's Tastings,Holiday/Special Occasion
ATTACH;FMTTYPE=image/jpeg:https://pier450.com/wp-content/uploads/2024/11/austrian-xmas-featured.jpg
END:VEVENT
BEGIN:VEVENT
DTSTART;TZID=UTC:20240929T180000
DTEND;TZID=UTC:20240929T200000
DTSTAMP:20260420T114700
CREATED:20240927T132312Z
LAST-MODIFIED:20240927T132313Z
UID:10000998-1727632800-1727640000@pier450.com
SUMMARY:High Tide - An Elevated Dining Experience
DESCRIPTION:Registration MENU
URL:https://pier450.com/event/high-tide-dining-experience-2/
LOCATION:Pier450\, 48342 Wynne Road\, Ridge\, 20680\, United States
CATEGORIES:Activities,Chef's Tastings
ATTACH;FMTTYPE=image/jpeg:https://pier450.com/wp-content/uploads/2024/07/high-tides.jpg
END:VEVENT
BEGIN:VEVENT
DTSTART;TZID=UTC:20240505T180000
DTEND;TZID=UTC:20240505T200000
DTSTAMP:20260420T114700
CREATED:20240118T234535Z
LAST-MODIFIED:20240118T235119Z
UID:10000323-1714932000-1714939200@pier450.com
SUMMARY:Chef's Tasting Dinner – Belize
DESCRIPTION:
URL:https://pier450.com/event/chefs-tasting-dinner-belize/
LOCATION:Pier450\, 48342 Wynne Road\, Ridge\, 20680\, United States
CATEGORIES:Chef's Tastings
ATTACH;FMTTYPE=image/jpeg:https://pier450.com/wp-content/uploads/2024/01/belize.jpg
END:VEVENT
BEGIN:VEVENT
DTSTART;TZID=UTC:20240421T180000
DTEND;TZID=UTC:20240421T200000
DTSTAMP:20260420T114700
CREATED:20240119T000121Z
LAST-MODIFIED:20240119T000121Z
UID:10000328-1713722400-1713729600@pier450.com
SUMMARY:Chef's Tasting Dinner – Malta
DESCRIPTION:
URL:https://pier450.com/event/chefs-tasting-dinner-malta/
LOCATION:Pier450\, 48342 Wynne Road\, Ridge\, 20680\, United States
CATEGORIES:Chef's Tastings
ATTACH;FMTTYPE=image/jpeg:https://pier450.com/wp-content/uploads/2024/01/malta.jpg
END:VEVENT
BEGIN:VEVENT
DTSTART;TZID=UTC:20240407T180000
DTEND;TZID=UTC:20240407T200000
DTSTAMP:20260420T114700
CREATED:20240118T235949Z
LAST-MODIFIED:20240325T202141Z
UID:10000327-1712512800-1712520000@pier450.com
SUMMARY:Chef's Tasting Dinner – Provence
DESCRIPTION:
URL:https://pier450.com/event/chefs-tasting-dinner-provence/
LOCATION:Pier450\, 48342 Wynne Road\, Ridge\, 20680\, United States
CATEGORIES:Chef's Tastings
ATTACH;FMTTYPE=image/jpeg:https://pier450.com/wp-content/uploads/2024/01/provence.jpg
END:VEVENT
BEGIN:VEVENT
DTSTART;TZID=UTC:20240317T180000
DTEND;TZID=UTC:20240317T200000
DTSTAMP:20260420T114700
CREATED:20240118T235745Z
LAST-MODIFIED:20240308T210806Z
UID:10000326-1710698400-1710705600@pier450.com
SUMMARY:Chef's Tasting Dinner – Philippines
DESCRIPTION:
URL:https://pier450.com/event/chefs-tasting-dinner-philippines/
LOCATION:Pier450\, 48342 Wynne Road\, Ridge\, 20680\, United States
CATEGORIES:Chef's Tastings
ATTACH;FMTTYPE=image/jpeg:https://pier450.com/wp-content/uploads/2024/01/phillipines.jpg
END:VEVENT
BEGIN:VEVENT
DTSTART;TZID=UTC:20240303T180000
DTEND;TZID=UTC:20240303T200000
DTSTAMP:20260420T114700
CREATED:20240118T235250Z
LAST-MODIFIED:20240226T211949Z
UID:10000325-1709488800-1709496000@pier450.com
SUMMARY:Chef's Tasting Dinner – India
DESCRIPTION:
URL:https://pier450.com/event/chefs-tasting-dinner-india/
LOCATION:Pier450\, 48342 Wynne Road\, Ridge\, 20680\, United States
CATEGORIES:Chef's Tastings
ATTACH;FMTTYPE=image/jpeg:https://pier450.com/wp-content/uploads/2024/01/india.jpg
END:VEVENT
BEGIN:VEVENT
DTSTART;TZID=UTC:20240218T180000
DTEND;TZID=UTC:20240218T200000
DTSTAMP:20260420T114700
CREATED:20240118T234917Z
LAST-MODIFIED:20240124T225851Z
UID:10000324-1708279200-1708286400@pier450.com
SUMMARY:Chef's Tasting Dinner – Zanzibar
DESCRIPTION:
URL:https://pier450.com/event/chefs-tasting-dinner-zanzibar/
LOCATION:Pier450\, 48342 Wynne Road\, Ridge\, 20680\, United States
CATEGORIES:Chef's Tastings
ATTACH;FMTTYPE=image/jpeg:https://pier450.com/wp-content/uploads/2024/01/zanzibar.jpg
END:VEVENT
BEGIN:VEVENT
DTSTART;TZID=UTC:20231217T180000
DTEND;TZID=UTC:20231217T200000
DTSTAMP:20260420T114700
CREATED:20230901T221812Z
LAST-MODIFIED:20231208T211529Z
UID:10000039-1702836000-1702843200@pier450.com
SUMMARY:"Christmas in Savannah" Chef's Tasting *** SOLD OUT ***
DESCRIPTION:This event has sold out!
URL:https://pier450.com/event/christmas-in-savannah/
LOCATION:Pier450\, 48342 Wynne Road\, Ridge\, 20680\, United States
CATEGORIES:Chef's Tastings
ATTACH;FMTTYPE=image/jpeg:https://pier450.com/wp-content/uploads/2023/09/Dec-17-IG-1.jpg
END:VEVENT
BEGIN:VEVENT
DTSTART;TZID=UTC:20231203T180000
DTEND;TZID=UTC:20231203T200000
DTSTAMP:20260420T114700
CREATED:20230901T221606Z
LAST-MODIFIED:20231123T002645Z
UID:10000038-1701626400-1701633600@pier450.com
SUMMARY:Holiday Chef's Tasting Dinner
DESCRIPTION:
URL:https://pier450.com/event/holiday-chefs-tasting-2023/
LOCATION:Pier450\, 48342 Wynne Road\, Ridge\, 20680\, United States
CATEGORIES:Chef's Tastings
ATTACH;FMTTYPE=image/jpeg:https://pier450.com/wp-content/uploads/2023/09/HOL-IG-1.jpg
END:VEVENT
BEGIN:VEVENT
DTSTART;TZID=UTC:20231112T180000
DTEND;TZID=UTC:20231112T200000
DTSTAMP:20260420T114700
CREATED:20230901T220730Z
LAST-MODIFIED:20231106T212450Z
UID:10000035-1699812000-1699819200@pier450.com
SUMMARY:"The Wonders of Peru" Chef's Tasting Dinner
DESCRIPTION:
URL:https://pier450.com/event/wonders-of-peru/
LOCATION:Pier450\, 48342 Wynne Road\, Ridge\, 20680\, United States
CATEGORIES:Chef's Tastings
ATTACH;FMTTYPE=image/jpeg:https://pier450.com/wp-content/uploads/2023/09/PERU-IG-1.jpg
END:VEVENT
BEGIN:VEVENT
DTSTART;TZID=UTC:20231111T110000
DTEND;TZID=UTC:20231111T170000
DTSTAMP:20260420T114700
CREATED:20231103T232153Z
LAST-MODIFIED:20231107T210439Z
UID:10000049-1699700400-1699722000@pier450.com
SUMMARY:Furniture and Home Decor Sale!
DESCRIPTION:
URL:https://pier450.com/event/home-decor-sale/
LOCATION:Pier450\, 48342 Wynne Road\, Ridge\, 20680\, United States
CATEGORIES:Chef's Tastings
ATTACH;FMTTYPE=image/jpeg:https://pier450.com/wp-content/uploads/2023/11/home-decor.jpg
END:VEVENT
BEGIN:VEVENT
DTSTART;TZID=UTC:20231102T183000
DTEND;TZID=UTC:20231102T210000
DTSTAMP:20260420T114700
CREATED:20230210T233839Z
LAST-MODIFIED:20231031T000033Z
UID:10000007-1698949800-1698958800@pier450.com
SUMMARY:Wines of the Southern Hemisphere – An Exclusive 5-Course with Tasting Dinner
DESCRIPTION:A special evening with international wine expert David Faulkner\, tasting a selection of highly rated South American wines paired with a five-course dinner by our own Chef Carlos Gomez-Starnes. \n$120/person\none seating\nby reservation only
URL:https://pier450.com/event/wines-southern-hemisphere/
LOCATION:Pier450\, 48342 Wynne Road\, Ridge\, 20680\, United States
CATEGORIES:Chef's Tastings,Wine Events
ATTACH;FMTTYPE=image/jpeg:https://pier450.com/wp-content/uploads/2023/02/wine-tasting.jpg
END:VEVENT
BEGIN:VEVENT
DTSTART;TZID=UTC:20231029T180000
DTEND;TZID=UTC:20231029T200000
DTSTAMP:20260420T114700
CREATED:20230901T220945Z
LAST-MODIFIED:20231018T034437Z
UID:10000036-1698602400-1698609600@pier450.com
SUMMARY:"Lebanon: A Sensory Experience" Chef's Tasting Dinner
DESCRIPTION:Reserve a Table View the Menu
URL:https://pier450.com/event/lebanon-sensory-experience/
LOCATION:Pier450\, 48342 Wynne Road\, Ridge\, 20680\, United States
CATEGORIES:Chef's Tastings
ATTACH;FMTTYPE=image/jpeg:https://pier450.com/wp-content/uploads/2023/09/Lebanon-IG-1.jpg
END:VEVENT
BEGIN:VEVENT
DTSTART;TZID=UTC:20231015T180000
DTEND;TZID=UTC:20231015T200000
DTSTAMP:20260420T114700
CREATED:20230901T221307Z
LAST-MODIFIED:20231007T204136Z
UID:10000037-1697392800-1697400000@pier450.com
SUMMARY:"Vivid\, Vibrant & Verdant Laos" Chef's Tasting Dinner
DESCRIPTION:﻿Reserve a Table View the Menu
URL:https://pier450.com/event/vibrant-verdant-laos/
LOCATION:Pier450\, 48342 Wynne Road\, Ridge\, 20680\, United States
CATEGORIES:Chef's Tastings
ATTACH;FMTTYPE=image/jpeg:https://pier450.com/wp-content/uploads/2023/09/LAOS-IG-1.jpg
END:VEVENT
BEGIN:VEVENT
DTSTART;TZID=UTC:20231001T180000
DTEND;TZID=UTC:20231001T200000
DTSTAMP:20260420T114700
CREATED:20230901T223524Z
LAST-MODIFIED:20230922T002915Z
UID:10000041-1696183200-1696190400@pier450.com
SUMMARY:"The West Coast of Africa" Chef's Tasting Dinner
DESCRIPTION:Reserve a Table View the Menu
URL:https://pier450.com/event/the-west-coast-of-africa-chefs-tasting-dinner/
LOCATION:Pier450\, 48342 Wynne Road\, Ridge\, 20680\, United States
CATEGORIES:Chef's Tastings
ATTACH;FMTTYPE=image/jpeg:https://pier450.com/wp-content/uploads/2023/09/AFR-IG-1.jpg
END:VEVENT
BEGIN:VEVENT
DTSTART;TZID=UTC:20230917T180000
DTEND;TZID=UTC:20230917T200000
DTSTAMP:20260420T114700
CREATED:20230825T231014Z
LAST-MODIFIED:20230912T212413Z
UID:10000033-1694973600-1694980800@pier450.com
SUMMARY:A "Fresh & Local" Chef's Tasting Dinner
DESCRIPTION:View the Menu  Reserve a Table
URL:https://pier450.com/event/fresh-and-local/
LOCATION:Pier450\, 48342 Wynne Road\, Ridge\, 20680\, United States
CATEGORIES:Chef's Tastings
ATTACH;FMTTYPE=image/jpeg:https://pier450.com/wp-content/uploads/2023/09/fresh-and-local.jpg
END:VEVENT
BEGIN:VEVENT
DTSTART;TZID=UTC:20230521T190000
DTEND;TZID=UTC:20230521T213000
DTSTAMP:20260420T114700
CREATED:20230427T180720Z
LAST-MODIFIED:20230508T234509Z
UID:10000021-1684695600-1684704600@pier450.com
SUMMARY:Under the Tuscan Sun
DESCRIPTION:View the Menu\nReserve a Table \n \nOutdoors and summer-fresh — a menu of in-season delicacies in The Yards at Pier450.
URL:https://pier450.com/event/under-tuscan-sun-dinner/
LOCATION:Pier450\, 48342 Wynne Road\, Ridge\, 20680\, United States
CATEGORIES:Activities,Chef's Tastings,Wine Events
ATTACH;FMTTYPE=image/jpeg:https://pier450.com/wp-content/uploads/2023/04/tuscan.jpg
END:VEVENT
BEGIN:VEVENT
DTSTART;TZID=UTC:20230505T180000
DTEND;TZID=UTC:20230505T200000
DTSTAMP:20260420T114700
CREATED:20240118T234229Z
LAST-MODIFIED:20240118T234229Z
UID:10000322-1683309600-1683316800@pier450.com
SUMMARY:Chef's Tasting Dinner – Belize
DESCRIPTION:
URL:https://pier450.com/event/chefs-tasting-belize/
LOCATION:Pier450\, 48342 Wynne Road\, Ridge\, 20680\, United States
CATEGORIES:Chef's Tastings
ATTACH;FMTTYPE=image/jpeg:https://pier450.com/wp-content/uploads/2024/01/belize.jpg
END:VEVENT
END:VCALENDAR