BEGIN:VCALENDAR
VERSION:2.0
PRODID:-//Pier450 in St. Mary&#039;s County, MD | Boutique Motel, Restaurant and Beach - ECPv6.15.20//NONSGML v1.0//EN
CALSCALE:GREGORIAN
METHOD:PUBLISH
X-WR-CALNAME:Pier450 in St. Mary&#039;s County, MD | Boutique Motel, Restaurant and Beach
X-ORIGINAL-URL:https://pier450.com
X-WR-CALDESC:Events for Pier450 in St. Mary&#039;s County, MD | Boutique Motel, Restaurant and Beach
REFRESH-INTERVAL;VALUE=DURATION:PT1H
X-Robots-Tag:noindex
X-PUBLISHED-TTL:PT1H
BEGIN:VTIMEZONE
TZID:UTC
BEGIN:STANDARD
TZOFFSETFROM:+0000
TZOFFSETTO:+0000
TZNAME:UTC
DTSTART:20220101T000000
END:STANDARD
END:VTIMEZONE
BEGIN:VEVENT
DTSTART;TZID=UTC:20231109T160000
DTEND;TZID=UTC:20231109T210000
DTSTAMP:20260421T184238
CREATED:20231020T171741Z
LAST-MODIFIED:20231030T235048Z
UID:10000048-1699545600-1699563600@pier450.com
SUMMARY:Guest Chefs Mary & Kim Williams
DESCRIPTION:
URL:https://pier450.com/event/guest-chef-mary-kim-williams/
LOCATION:Pier450\, 48342 Wynne Road\, Ridge\, 20680\, United States
CATEGORIES:Other
ATTACH;FMTTYPE=image/jpeg:https://pier450.com/wp-content/uploads/2023/10/guest-chefs.jpg
END:VEVENT
END:VCALENDAR