BEGIN:VCALENDAR
VERSION:2.0
PRODID:-//Pier450 in St. Mary&#039;s County, MD | Boutique Motel, Restaurant and Beach - ECPv6.15.20//NONSGML v1.0//EN
CALSCALE:GREGORIAN
METHOD:PUBLISH
X-WR-CALNAME:Pier450 in St. Mary&#039;s County, MD | Boutique Motel, Restaurant and Beach
X-ORIGINAL-URL:https://pier450.com
X-WR-CALDESC:Events for Pier450 in St. Mary&#039;s County, MD | Boutique Motel, Restaurant and Beach
REFRESH-INTERVAL;VALUE=DURATION:PT1H
X-Robots-Tag:noindex
X-PUBLISHED-TTL:PT1H
BEGIN:VTIMEZONE
TZID:America/New_York
BEGIN:DAYLIGHT
TZOFFSETFROM:-0500
TZOFFSETTO:-0400
TZNAME:EDT
DTSTART:20230312T070000
END:DAYLIGHT
BEGIN:STANDARD
TZOFFSETFROM:-0400
TZOFFSETTO:-0500
TZNAME:EST
DTSTART:20231105T060000
END:STANDARD
BEGIN:DAYLIGHT
TZOFFSETFROM:-0500
TZOFFSETTO:-0400
TZNAME:EDT
DTSTART:20240310T070000
END:DAYLIGHT
BEGIN:STANDARD
TZOFFSETFROM:-0400
TZOFFSETTO:-0500
TZNAME:EST
DTSTART:20241103T060000
END:STANDARD
BEGIN:DAYLIGHT
TZOFFSETFROM:-0500
TZOFFSETTO:-0400
TZNAME:EDT
DTSTART:20250309T070000
END:DAYLIGHT
BEGIN:STANDARD
TZOFFSETFROM:-0400
TZOFFSETTO:-0500
TZNAME:EST
DTSTART:20251102T060000
END:STANDARD
BEGIN:DAYLIGHT
TZOFFSETFROM:-0500
TZOFFSETTO:-0400
TZNAME:EDT
DTSTART:20260308T070000
END:DAYLIGHT
BEGIN:STANDARD
TZOFFSETFROM:-0400
TZOFFSETTO:-0500
TZNAME:EST
DTSTART:20261101T060000
END:STANDARD
END:VTIMEZONE
BEGIN:VTIMEZONE
TZID:UTC
BEGIN:STANDARD
TZOFFSETFROM:+0000
TZOFFSETTO:+0000
TZNAME:UTC
DTSTART:20230101T000000
END:STANDARD
END:VTIMEZONE
BEGIN:VEVENT
DTSTART;TZID=America/New_York:20250316T140000
DTEND;TZID=America/New_York:20250316T160000
DTSTAMP:20260420T023829
CREATED:20250122T163503Z
LAST-MODIFIED:20250208T021435Z
UID:10001059-1742133600-1742140800@pier450.com
SUMMARY:Mind > Blown: A Speaker Series at Pier450
DESCRIPTION:March 16: AI Everyday — Using it to Your Advantage\nWith Chris Senio\nCOO of ESM Software Group \n$75 for the series (6 events) \n  \nRegister Online
URL:https://pier450.com/event/speaker-series-at-pier450-mar-16/
LOCATION:Pier450\, 48342 Wynne Road\, Ridge\, 20680\, United States
CATEGORIES:Speaker Series
ATTACH;FMTTYPE=image/jpeg:https://pier450.com/wp-content/uploads/2025/01/AI-featured.jpg
END:VEVENT
BEGIN:VEVENT
DTSTART;TZID=UTC:20250307T173000
DTEND;TZID=UTC:20250307T193000
DTSTAMP:20260420T023829
CREATED:20250305T164225Z
LAST-MODIFIED:20250305T164653Z
UID:10001068-1741368600-1741375800@pier450.com
SUMMARY:Lissie Deere Live in the Piano Bar
DESCRIPTION:Lissie Deere Live in the Piano Bar at Pier450\nFriday March 7\n5:30-7:30pm\n\nAn eclectic improvisational set of jazz\, rock\, folk and classical\nNo reservations required for the bar\n\nDinner Reservations
URL:https://pier450.com/event/piano-bar-live-jazz/
LOCATION:Pier450\, 48342 Wynne Road\, Ridge\, 20680\, United States
CATEGORIES:Activities,Live Jazz at Pier450
ATTACH;FMTTYPE=image/jpeg:https://pier450.com/wp-content/uploads/2025/03/image-2.jpeg
END:VEVENT
BEGIN:VEVENT
DTSTART;TZID=America/New_York:20250302T140000
DTEND;TZID=America/New_York:20250302T160000
DTSTAMP:20260420T023829
CREATED:20250213T181249Z
LAST-MODIFIED:20250214T160848Z
UID:10001066-1740924000-1740931200@pier450.com
SUMMARY:Mind > Blown: A Speaker Series at Pier450
DESCRIPTION:March 2: Maryland’s Fossil Sharks (and Other Paleontological Wonders)\nWith Dr. Victor Perez\nVisiting Assistant Professor\nSt. Mary’s College Department of Environmental Studies \n$75 for the series (6 events) \nRegister Online \nSouthern Maryland is known worldwide for the exceptional fossil record of Miocene marine life\, offering ample opportunities for research\, education\, and recreation. The fossils along the local Calvert Cliffs are inherently connected to coastal erosion in the Chesapeake Bay. Consequently\, my research also explores the active geologic processes along Calvert Cliffs to understand how these processes impact fossil preservation and modern aquatic ecosystems. \nAs a STEM educator\, I am actively involved in undergraduate and K-12 education\, as well as community outreach. I create and evaluate educational programs that engage diverse audiences in inquiry-driven learning. I am currently a co-PI on a National Science Foundation ITEST grant that is introducing middle school students to artificial intelligence using fossil shark teeth. Through this project\, we are developing a curriculum in which students create machine learning models that are capable of classifying images of fossil shark teeth.
URL:https://pier450.com/event/mind-blown-a-speaker-series-victor-perez/
LOCATION:Pier450\, 48342 Wynne Road\, Ridge\, 20680\, United States
CATEGORIES:Speaker Series
ATTACH;FMTTYPE=image/jpeg:https://pier450.com/wp-content/uploads/2025/02/fossils.jpg
END:VEVENT
BEGIN:VEVENT
DTSTART;TZID=UTC:20250223T180000
DTEND;TZID=UTC:20250223T200000
DTSTAMP:20260420T023829
CREATED:20250214T184111Z
LAST-MODIFIED:20250220T012436Z
UID:10001061-1740333600-1740340800@pier450.com
SUMMARY:Reintroducing International Street Foods
DESCRIPTION:Menu & Reservations
URL:https://pier450.com/event/intl-street-foods-2/
LOCATION:Pier450\, 48342 Wynne Road\, Ridge\, 20680\, United States
CATEGORIES:Activities
ATTACH;FMTTYPE=image/jpeg:https://pier450.com/wp-content/uploads/2025/02/tasting-menu-featured.jpg
END:VEVENT
BEGIN:VEVENT
DTSTART;TZID=America/New_York:20250223T140000
DTEND;TZID=America/New_York:20250223T160000
DTSTAMP:20260420T023829
CREATED:20250122T163252Z
LAST-MODIFIED:20250218T212859Z
UID:10001058-1740319200-1740326400@pier450.com
SUMMARY:Mind > Blown: A Speaker Series at Pier450
DESCRIPTION:February 23: Rum-running in Southern Maryland – A Colorful History\nWith Pat Woodburn\n10th-generation Southern Marylander\, Historical Society Member\n(and whose family may or may not have been involved in rye and bourbon production in St. Mary’s County) \n$75 for the series (Register for all events) \n  \nRegister for this Event Only
URL:https://pier450.com/event/speaker-series-at-pier450-feb-23/
LOCATION:Pier450\, 48342 Wynne Road\, Ridge\, 20680\, United States
CATEGORIES:Speaker Series
ATTACH;FMTTYPE=image/jpeg:https://pier450.com/wp-content/uploads/2025/01/rum-runner.jpg
END:VEVENT
BEGIN:VEVENT
DTSTART;TZID=UTC:20250222T140000
DTEND;TZID=UTC:20250222T160000
DTSTAMP:20260420T023829
CREATED:20250121T195746Z
LAST-MODIFIED:20250122T180611Z
UID:10001045-1740232800-1740240000@pier450.com
SUMMARY:Glamour & Intrique: Afternoon Tea at Pier450
DESCRIPTION:Register Here
URL:https://pier450.com/event/afternoon-tea/
LOCATION:Pier450\, 48342 Wynne Road\, Ridge\, 20680\, United States
CATEGORIES:Activities
ATTACH;FMTTYPE=image/jpeg:https://pier450.com/wp-content/uploads/2025/01/tea-featured.jpg
END:VEVENT
BEGIN:VEVENT
DTSTART;TZID=America/New_York:20250216T140000
DTEND;TZID=America/New_York:20250216T160000
DTSTAMP:20260420T023829
CREATED:20250121T230532Z
LAST-MODIFIED:20250208T021151Z
UID:10001053-1739714400-1739721600@pier450.com
SUMMARY:Mind > Blown: A Speaker Series at Pier450
DESCRIPTION:February 16: History and Ecology of the Chesapeake Bay\nWith Captain Phil Langley\nFourth-generation waterman and renowned Chesapeake Bay expert \n$75 for the series (6 events) \n  \nRegister Online
URL:https://pier450.com/event/speaker-series-feb-16/
LOCATION:Pier450\, 48342 Wynne Road\, Ridge\, 20680\, United States
CATEGORIES:Speaker Series
ATTACH;FMTTYPE=image/jpeg:https://pier450.com/wp-content/uploads/2025/01/mind-blown-featured-1.jpg
END:VEVENT
BEGIN:VEVENT
DTSTART;TZID=UTC:20250215T110000
DTEND;TZID=UTC:20250215T130000
DTSTAMP:20260420T023829
CREATED:20250123T172942Z
LAST-MODIFIED:20250123T173250Z
UID:10001060-1739617200-1739624400@pier450.com
SUMMARY:Pasta e Amore: Pasta Making with Chef Carlos
DESCRIPTION:Register Here
URL:https://pier450.com/event/pasta-e-amore/
LOCATION:Pier450\, 48342 Wynne Road\, Ridge\, 20680\, United States
CATEGORIES:Classes
ATTACH;FMTTYPE=image/jpeg:https://pier450.com/wp-content/uploads/2025/01/pasta-featured.jpg
END:VEVENT
BEGIN:VEVENT
DTSTART;TZID=UTC:20250209T113000
DTEND;TZID=UTC:20250209T133000
DTSTAMP:20260420T023829
CREATED:20250208T013913Z
LAST-MODIFIED:20250208T021259Z
UID:10001065-1739100600-1739107800@pier450.com
SUMMARY:Jazz at Pier450
DESCRIPTION:Register Here \n 
URL:https://pier450.com/event/jazz-at-pier450/2025-02-09/
LOCATION:Pier450\, 48342 Wynne Road\, Ridge\, 20680\, United States
CATEGORIES:Activities,Live Jazz at Pier450
ATTACH;FMTTYPE=image/jpeg:https://pier450.com/wp-content/uploads/2025/02/jazz-at-pier450.jpg
END:VEVENT
BEGIN:VEVENT
DTSTART;TZID=UTC:20250208T183000
DTEND;TZID=UTC:20250208T213000
DTSTAMP:20260420T023829
CREATED:20250208T013913Z
LAST-MODIFIED:20250208T021259Z
UID:10001064-1739039400-1739050200@pier450.com
SUMMARY:Jazz at Pier450
DESCRIPTION:Register Here \n 
URL:https://pier450.com/event/jazz-at-pier450/2025-02-08/
LOCATION:Pier450\, 48342 Wynne Road\, Ridge\, 20680\, United States
CATEGORIES:Activities,Live Jazz at Pier450
ATTACH;FMTTYPE=image/jpeg:https://pier450.com/wp-content/uploads/2025/02/jazz-at-pier450.jpg
END:VEVENT
BEGIN:VEVENT
DTSTART;TZID=UTC:20250207T183000
DTEND;TZID=UTC:20250207T213000
DTSTAMP:20260420T023829
CREATED:20250208T013913Z
LAST-MODIFIED:20250208T021259Z
UID:10001062-1738953000-1738963800@pier450.com
SUMMARY:Jazz at Pier450
DESCRIPTION:Register Here \n 
URL:https://pier450.com/event/jazz-at-pier450/2025-02-07/
LOCATION:Pier450\, 48342 Wynne Road\, Ridge\, 20680\, United States
CATEGORIES:Activities,Live Jazz at Pier450
ATTACH;FMTTYPE=image/jpeg:https://pier450.com/wp-content/uploads/2025/02/jazz-at-pier450.jpg
END:VEVENT
BEGIN:VEVENT
DTSTART;TZID=America/New_York:20250202T140000
DTEND;TZID=America/New_York:20250202T160000
DTSTAMP:20260420T023829
CREATED:20250121T225844Z
LAST-MODIFIED:20250129T170440Z
UID:10001046-1738504800-1738512000@pier450.com
SUMMARY:Mind > Blown: A Speaker Series at Pier450
DESCRIPTION:February 2: New Discoveries from St. Mary’s Fort\, Historic St. Mary’s City\nWith Travis G. Parno\, Ph.D.\, RPA\nDirector of Research and Collections\nHistoric St. Mary’s City\n$20 for this event or $75 for the series (6 events) \n  \nRegister for this event \nRegister for the series
URL:https://pier450.com/event/mind-blown-a-speaker-series-at-pier450/
LOCATION:Pier450\, 48342 Wynne Road\, Ridge\, 20680\, United States
CATEGORIES:Speaker Series
ATTACH;FMTTYPE=image/jpeg:https://pier450.com/wp-content/uploads/2025/01/st-mary-featured.jpg
END:VEVENT
BEGIN:VEVENT
DTSTART;TZID=UTC:20241222T180000
DTEND;TZID=UTC:20241222T210000
DTSTAMP:20260420T023829
CREATED:20241123T151403Z
LAST-MODIFIED:20241126T212344Z
UID:10001029-1734890400-1734901200@pier450.com
SUMMARY:"An Austrian Christmas" Tasting Dinner
DESCRIPTION:Register Here
URL:https://pier450.com/event/an-austrian-christmas-tasting-dinner/
LOCATION:Pier450\, 48342 Wynne Road\, Ridge\, 20680\, United States
CATEGORIES:Chef's Tastings,Holiday/Special Occasion
ATTACH;FMTTYPE=image/jpeg:https://pier450.com/wp-content/uploads/2024/11/austrian-xmas-featured.jpg
END:VEVENT
BEGIN:VEVENT
DTSTART;TZID=UTC:20241221T120000
DTEND;TZID=UTC:20241221T160000
DTSTAMP:20260420T023829
CREATED:20241123T155109Z
LAST-MODIFIED:20241123T155109Z
UID:10001037-1734782400-1734796800@pier450.com
SUMMARY:Holiday Pop-Up Shop!
DESCRIPTION:
URL:https://pier450.com/event/holiday-pop-up/2024-12-21/
LOCATION:Pier450\, 48342 Wynne Road\, Ridge\, 20680\, United States
CATEGORIES:Activities,Holiday/Special Occasion
ATTACH;FMTTYPE=image/jpeg:https://pier450.com/wp-content/uploads/2024/11/pop-up-featured.jpg
END:VEVENT
BEGIN:VEVENT
DTSTART;TZID=UTC:20241215T150000
DTEND;TZID=UTC:20241215T170000
DTSTAMP:20260420T023829
CREATED:20241123T152358Z
LAST-MODIFIED:20241203T220105Z
UID:10001031-1734274800-1734282000@pier450.com
SUMMARY:Christmas Tea
DESCRIPTION:Register Here
URL:https://pier450.com/event/christmas-tea/
LOCATION:Pier450\, 48342 Wynne Road\, Ridge\, 20680\, United States
CATEGORIES:Activities,Holiday/Special Occasion
ATTACH;FMTTYPE=image/jpeg:https://pier450.com/wp-content/uploads/2024/11/xmas-tea-featured-1.jpg
END:VEVENT
BEGIN:VEVENT
DTSTART;TZID=UTC:20241215T120000
DTEND;TZID=UTC:20241215T160000
DTSTAMP:20260420T023829
CREATED:20241118T161820Z
LAST-MODIFIED:20241123T161317Z
UID:10001041-1734264000-1734278400@pier450.com
SUMMARY:Holiday Bake Sale!
DESCRIPTION:
URL:https://pier450.com/event/holiday-bake-sale/2024-12-15/
LOCATION:Pier450\, 48342 Wynne Road\, Ridge\, 20680\, United States
CATEGORIES:Holiday/Special Occasion
ATTACH;FMTTYPE=image/jpeg:https://pier450.com/wp-content/uploads/2024/11/holiday-bake-sale-featured.jpg
END:VEVENT
BEGIN:VEVENT
DTSTART;TZID=UTC:20241214T120000
DTEND;TZID=UTC:20241214T160000
DTSTAMP:20260420T023829
CREATED:20241123T155109Z
LAST-MODIFIED:20241123T155109Z
UID:10001036-1734177600-1734192000@pier450.com
SUMMARY:Holiday Pop-Up Shop!
DESCRIPTION:
URL:https://pier450.com/event/holiday-pop-up/2024-12-14/
LOCATION:Pier450\, 48342 Wynne Road\, Ridge\, 20680\, United States
CATEGORIES:Activities,Holiday/Special Occasion
ATTACH;FMTTYPE=image/jpeg:https://pier450.com/wp-content/uploads/2024/11/pop-up-featured.jpg
END:VEVENT
BEGIN:VEVENT
DTSTART;TZID=UTC:20241214T120000
DTEND;TZID=UTC:20241214T160000
DTSTAMP:20260420T023829
CREATED:20241118T161820Z
LAST-MODIFIED:20241123T161317Z
UID:10001027-1734177600-1734192000@pier450.com
SUMMARY:Holiday Bake Sale!
DESCRIPTION:
URL:https://pier450.com/event/holiday-bake-sale/2024-12-14/
LOCATION:Pier450\, 48342 Wynne Road\, Ridge\, 20680\, United States
CATEGORIES:Holiday/Special Occasion
ATTACH;FMTTYPE=image/jpeg:https://pier450.com/wp-content/uploads/2024/11/holiday-bake-sale-featured.jpg
END:VEVENT
BEGIN:VEVENT
DTSTART;TZID=UTC:20241207T120000
DTEND;TZID=UTC:20241207T160000
DTSTAMP:20260420T023829
CREATED:20241123T155109Z
LAST-MODIFIED:20241123T155109Z
UID:10001035-1733572800-1733587200@pier450.com
SUMMARY:Holiday Pop-Up Shop!
DESCRIPTION:
URL:https://pier450.com/event/holiday-pop-up/2024-12-07/
LOCATION:Pier450\, 48342 Wynne Road\, Ridge\, 20680\, United States
CATEGORIES:Activities,Holiday/Special Occasion
ATTACH;FMTTYPE=image/jpeg:https://pier450.com/wp-content/uploads/2024/11/pop-up-featured.jpg
END:VEVENT
BEGIN:VEVENT
DTSTART;TZID=UTC:20241201T160000
DTEND;TZID=UTC:20250116T210000
DTSTAMP:20260420T023829
CREATED:20240819T153549Z
LAST-MODIFIED:20241204T173101Z
UID:10001006-1733068800-1737061200@pier450.com
SUMMARY:Holiday Schedule 24/25
DESCRIPTION:
URL:https://pier450.com/event/holiday-schedule-24-25/
LOCATION:Pier450\, 48342 Wynne Road\, Ridge\, 20680\, United States
CATEGORIES:Holiday/Special Occasion
ATTACH;FMTTYPE=image/jpeg:https://pier450.com/wp-content/uploads/2024/08/fall-winter-schdule-1.jpg
END:VEVENT
BEGIN:VEVENT
DTSTART;TZID=UTC:20241130T120000
DTEND;TZID=UTC:20241130T160000
DTSTAMP:20260420T023829
CREATED:20241123T155109Z
LAST-MODIFIED:20241123T155109Z
UID:10001034-1732968000-1732982400@pier450.com
SUMMARY:Holiday Pop-Up Shop!
DESCRIPTION:
URL:https://pier450.com/event/holiday-pop-up/2024-11-30/
LOCATION:Pier450\, 48342 Wynne Road\, Ridge\, 20680\, United States
CATEGORIES:Activities,Holiday/Special Occasion
ATTACH;FMTTYPE=image/jpeg:https://pier450.com/wp-content/uploads/2024/11/pop-up-featured.jpg
END:VEVENT
BEGIN:VEVENT
DTSTART;TZID=UTC:20241116T110000
DTEND;TZID=UTC:20241116T130000
DTSTAMP:20260420T023829
CREATED:20240903T014540Z
LAST-MODIFIED:20240919T183918Z
UID:10001015-1731754800-1731762000@pier450.com
SUMMARY:Oyster Mirror Workshop with Peggy
DESCRIPTION:Registration
URL:https://pier450.com/event/oyster-mirror-workshop/
LOCATION:Pier450\, 48342 Wynne Road\, Ridge\, 20680\, United States
CATEGORIES:Activities
ATTACH;FMTTYPE=image/jpeg:https://pier450.com/wp-content/uploads/2024/07/oyster-featured.jpg
END:VEVENT
BEGIN:VEVENT
DTSTART;TZID=UTC:20241114T160000
DTEND;TZID=UTC:20241114T210000
DTSTAMP:20260420T023829
CREATED:20241023T133446Z
LAST-MODIFIED:20241023T133446Z
UID:10001026-1731600000-1731618000@pier450.com
SUMMARY:Celebrity Guest Chef: John Carbone
DESCRIPTION:DINNER RESERVATIONS
URL:https://pier450.com/event/celebrity-guest-chef-john-carbone/
LOCATION:Pier450\, 48342 Wynne Road\, Ridge\, 20680\, United States
CATEGORIES:Activities
ATTACH;FMTTYPE=image/jpeg:https://pier450.com/wp-content/uploads/2024/10/john-carbone.jpg
END:VEVENT
BEGIN:VEVENT
DTSTART;TZID=UTC:20241102T183000
DTEND;TZID=UTC:20241102T213000
DTSTAMP:20260420T023829
CREATED:20240903T131139Z
LAST-MODIFIED:20241018T173355Z
UID:10001016-1730572200-1730583000@pier450.com
SUMMARY:Rock\, Blues & Jazz from The Neverland Band
DESCRIPTION:
URL:https://pier450.com/event/neverland-band/
LOCATION:Pier450\, 48342 Wynne Road\, Ridge\, 20680\, United States
CATEGORIES:Activities
ATTACH;FMTTYPE=image/jpeg:https://pier450.com/wp-content/uploads/2024/07/neverland-featured.jpg
END:VEVENT
BEGIN:VEVENT
DTSTART;TZID=UTC:20241019T110000
DTEND;TZID=UTC:20241019T130000
DTSTAMP:20260420T023829
CREATED:20240903T134102Z
LAST-MODIFIED:20240917T204449Z
UID:10001019-1729335600-1729342800@pier450.com
SUMMARY:Seasonal Soups with Chef Carlos
DESCRIPTION:
URL:https://pier450.com/event/seasonal-soups-with-chef-carlos/
LOCATION:Pier450\, 48342 Wynne Road\, Ridge\, 20680\, United States
CATEGORIES:Activities
ATTACH;FMTTYPE=image/jpeg:https://pier450.com/wp-content/uploads/2024/07/soups-featured.jpg
END:VEVENT
BEGIN:VEVENT
DTSTART;TZID=UTC:20241018T193000
DTEND;TZID=UTC:20241018T223000
DTSTAMP:20260420T023829
CREATED:20241012T184458Z
LAST-MODIFIED:20241012T184751Z
UID:10001025-1729279800-1729290600@pier450.com
SUMMARY:Lookout Band on the Beach at Pier450
DESCRIPTION:Dinner Reservations \n 
URL:https://pier450.com/event/lookout-band-on-beach/
LOCATION:Pier450\, 48342 Wynne Road\, Ridge\, 20680\, United States
CATEGORIES:Activities
ATTACH;FMTTYPE=image/jpeg:https://pier450.com/wp-content/uploads/2024/10/lookout-band.jpg
END:VEVENT
BEGIN:VEVENT
DTSTART;TZID=America/New_York:20241010T180000
DTEND;TZID=America/New_York:20241010T190000
DTSTAMP:20260420T023829
CREATED:20240819T165454Z
LAST-MODIFIED:20240917T231255Z
UID:10001012-1728583200-1728586800@pier450.com
SUMMARY:Mixology with Emily & James
DESCRIPTION:Registration
URL:https://pier450.com/event/mixology-with-emily-james/2024-10-10/
LOCATION:Pier450\, 48342 Wynne Road\, Ridge\, 20680\, United States
CATEGORIES:Activities
ATTACH;FMTTYPE=image/jpeg:https://pier450.com/wp-content/uploads/2024/08/boozy.jpg
END:VEVENT
BEGIN:VEVENT
DTSTART;TZID=America/New_York:20241003T180000
DTEND;TZID=America/New_York:20241003T190000
DTSTAMP:20260420T023829
CREATED:20240819T165454Z
LAST-MODIFIED:20240917T231255Z
UID:10001011-1727978400-1727982000@pier450.com
SUMMARY:Mixology with Emily & James
DESCRIPTION:Registration
URL:https://pier450.com/event/mixology-with-emily-james/2024-10-03/
LOCATION:Pier450\, 48342 Wynne Road\, Ridge\, 20680\, United States
CATEGORIES:Activities
ATTACH;FMTTYPE=image/jpeg:https://pier450.com/wp-content/uploads/2024/08/boozy.jpg
END:VEVENT
BEGIN:VEVENT
DTSTART;TZID=UTC:20240929T180000
DTEND;TZID=UTC:20240929T200000
DTSTAMP:20260420T023829
CREATED:20240927T132312Z
LAST-MODIFIED:20240927T132313Z
UID:10000998-1727632800-1727640000@pier450.com
SUMMARY:High Tide - An Elevated Dining Experience
DESCRIPTION:Registration MENU
URL:https://pier450.com/event/high-tide-dining-experience-2/
LOCATION:Pier450\, 48342 Wynne Road\, Ridge\, 20680\, United States
CATEGORIES:Activities,Chef's Tastings
ATTACH;FMTTYPE=image/jpeg:https://pier450.com/wp-content/uploads/2024/07/high-tides.jpg
END:VEVENT
BEGIN:VEVENT
DTSTART;TZID=UTC:20240929T090000
DTEND;TZID=UTC:20240929T101500
DTSTAMP:20260420T023829
CREATED:20240322T171950Z
LAST-MODIFIED:20240322T173211Z
UID:10000962-1727600400-1727604900@pier450.com
SUMMARY:Hatha Vinyasa Yoga with Nancy Uma
DESCRIPTION:An exciting addition to the calendar at Pier450 — Hatha Vinyasa yoga on the beach with Nancy Uma.\n\n75 minutes of yoga\, stretching and breathing \n$30 includes a mimosa after class. \n\n\nNancy Uma Teaches a Hatha combination Vinyasa yoga practice. Traditional poses are held longer and some poses are integrated into a flow (Vinyasa). Along with the traditional poses\, she will introduce yin (long stretching ) with breathing practice. Wrapping up the class with a long-guided relaxation. She offers an intentional\, mindful practice that allows you to connect to your physical\, mental and emotional body. A balanced combination leaving the body and mind both calm and clear.
URL:https://pier450.com/event/yoga-at-pier450/2024-09-29/
LOCATION:Pier450\, 48342 Wynne Road\, Ridge\, 20680\, United States
CATEGORIES:Activities,Fitness
ATTACH;FMTTYPE=image/jpeg:https://pier450.com/wp-content/uploads/2023/09/yoga-promo-new.jpg
END:VEVENT
END:VCALENDAR