BEGIN:VCALENDAR
VERSION:2.0
PRODID:-//Pier450 in St. Mary&#039;s County, MD | Boutique Motel, Restaurant and Beach - ECPv6.15.20//NONSGML v1.0//EN
CALSCALE:GREGORIAN
METHOD:PUBLISH
X-WR-CALNAME:Pier450 in St. Mary&#039;s County, MD | Boutique Motel, Restaurant and Beach
X-ORIGINAL-URL:https://pier450.com
X-WR-CALDESC:Events for Pier450 in St. Mary&#039;s County, MD | Boutique Motel, Restaurant and Beach
REFRESH-INTERVAL;VALUE=DURATION:PT1H
X-Robots-Tag:noindex
X-PUBLISHED-TTL:PT1H
BEGIN:VTIMEZONE
TZID:America/New_York
BEGIN:DAYLIGHT
TZOFFSETFROM:-0500
TZOFFSETTO:-0400
TZNAME:EDT
DTSTART:20230312T070000
END:DAYLIGHT
BEGIN:STANDARD
TZOFFSETFROM:-0400
TZOFFSETTO:-0500
TZNAME:EST
DTSTART:20231105T060000
END:STANDARD
BEGIN:DAYLIGHT
TZOFFSETFROM:-0500
TZOFFSETTO:-0400
TZNAME:EDT
DTSTART:20240310T070000
END:DAYLIGHT
BEGIN:STANDARD
TZOFFSETFROM:-0400
TZOFFSETTO:-0500
TZNAME:EST
DTSTART:20241103T060000
END:STANDARD
BEGIN:DAYLIGHT
TZOFFSETFROM:-0500
TZOFFSETTO:-0400
TZNAME:EDT
DTSTART:20250309T070000
END:DAYLIGHT
BEGIN:STANDARD
TZOFFSETFROM:-0400
TZOFFSETTO:-0500
TZNAME:EST
DTSTART:20251102T060000
END:STANDARD
END:VTIMEZONE
BEGIN:VTIMEZONE
TZID:UTC
BEGIN:STANDARD
TZOFFSETFROM:+0000
TZOFFSETTO:+0000
TZNAME:UTC
DTSTART:20230101T000000
END:STANDARD
END:VTIMEZONE
BEGIN:VEVENT
DTSTART;TZID=America/New_York:20240912T180000
DTEND;TZID=America/New_York:20240912T190000
DTSTAMP:20260420T002426
CREATED:20240819T165454Z
LAST-MODIFIED:20240917T231255Z
UID:10001008-1726164000-1726167600@pier450.com
SUMMARY:Mixology with Emily & James
DESCRIPTION:Registration
URL:https://pier450.com/event/mixology-with-emily-james/2024-09-12/
LOCATION:Pier450\, 48342 Wynne Road\, Ridge\, 20680\, United States
CATEGORIES:Activities
ATTACH;FMTTYPE=image/jpeg:https://pier450.com/wp-content/uploads/2024/08/boozy.jpg
END:VEVENT
BEGIN:VEVENT
DTSTART;TZID=America/New_York:20240905T180000
DTEND;TZID=America/New_York:20240905T190000
DTSTAMP:20260420T002426
CREATED:20240819T165454Z
LAST-MODIFIED:20240917T231255Z
UID:10001007-1725559200-1725562800@pier450.com
SUMMARY:Mixology with Emily & James
DESCRIPTION:Registration
URL:https://pier450.com/event/mixology-with-emily-james/2024-09-05/
LOCATION:Pier450\, 48342 Wynne Road\, Ridge\, 20680\, United States
CATEGORIES:Activities
ATTACH;FMTTYPE=image/jpeg:https://pier450.com/wp-content/uploads/2024/08/boozy.jpg
END:VEVENT
BEGIN:VEVENT
DTSTART;TZID=UTC:20240831T100000
DTEND;TZID=UTC:20240831T120000
DTSTAMP:20260420T002426
CREATED:20230720T051254Z
LAST-MODIFIED:20240424T203200Z
UID:10000990-1725098400-1725105600@pier450.com
SUMMARY:Dog Days at Pier450
DESCRIPTION:
URL:https://pier450.com/event/dog-days-at-pier450/2024-08-31/
LOCATION:Pier450\, 48342 Wynne Road\, Ridge\, 20680\, United States
CATEGORIES:Activities,Other
ATTACH;FMTTYPE=image/jpeg:https://pier450.com/wp-content/uploads/2023/07/dog-days.jpg
END:VEVENT
BEGIN:VEVENT
DTSTART;TZID=UTC:20240825T090000
DTEND;TZID=UTC:20240825T101500
DTSTAMP:20260420T002426
CREATED:20240322T171950Z
LAST-MODIFIED:20240322T173211Z
UID:10000961-1724576400-1724580900@pier450.com
SUMMARY:Hatha Vinyasa Yoga with Nancy Uma
DESCRIPTION:An exciting addition to the calendar at Pier450 — Hatha Vinyasa yoga on the beach with Nancy Uma.\n\n75 minutes of yoga\, stretching and breathing \n$30 includes a mimosa after class. \n\n\nNancy Uma Teaches a Hatha combination Vinyasa yoga practice. Traditional poses are held longer and some poses are integrated into a flow (Vinyasa). Along with the traditional poses\, she will introduce yin (long stretching ) with breathing practice. Wrapping up the class with a long-guided relaxation. She offers an intentional\, mindful practice that allows you to connect to your physical\, mental and emotional body. A balanced combination leaving the body and mind both calm and clear.
URL:https://pier450.com/event/yoga-at-pier450/2024-08-25/
LOCATION:Pier450\, 48342 Wynne Road\, Ridge\, 20680\, United States
CATEGORIES:Activities,Fitness
ATTACH;FMTTYPE=image/jpeg:https://pier450.com/wp-content/uploads/2023/09/yoga-promo-new.jpg
END:VEVENT
BEGIN:VEVENT
DTSTART;TZID=UTC:20240811T180000
DTEND;TZID=UTC:20240811T193000
DTSTAMP:20260420T002426
CREATED:20240422T183327Z
LAST-MODIFIED:20240422T192443Z
UID:10000986-1723399200-1723404600@pier450.com
SUMMARY:Sunset Cruises with Captain Phil
DESCRIPTION:6/9  6:30 pm  Reserve your spot\n7/21  6:15 pm  Reserve your spot\n8/11  6:00 pm  Reserve your spot\n9/15  5:15 pm  Reserve your spot
URL:https://pier450.com/event/sunset-cruises-with-captain-phil/2024-08-11/
LOCATION:Pier450\, 48342 Wynne Road\, Ridge\, 20680\, United States
CATEGORIES:Activities
ATTACH;FMTTYPE=image/jpeg:https://pier450.com/wp-content/uploads/2024/03/sunset-cruises-at-p450.jpg
END:VEVENT
BEGIN:VEVENT
DTSTART;TZID=UTC:20240811T100000
DTEND;TZID=UTC:20240811T160000
DTSTAMP:20260420T002426
CREATED:20240802T142500Z
LAST-MODIFIED:20240802T142649Z
UID:10001004-1723370400-1723392000@pier450.com
SUMMARY:Bake Sale at Pier450
DESCRIPTION: 
URL:https://pier450.com/event/bake-sale-at-pier450/
LOCATION:Pier450\, 48342 Wynne Road\, Ridge\, 20680\, United States
CATEGORIES:Activities
ATTACH;FMTTYPE=image/jpeg:https://pier450.com/wp-content/uploads/2024/08/bake-sale.jpg
END:VEVENT
BEGIN:VEVENT
DTSTART;TZID=UTC:20240811T090000
DTEND;TZID=UTC:20240811T100000
DTSTAMP:20260420T002426
CREATED:20240805T165119Z
LAST-MODIFIED:20240805T165408Z
UID:10001005-1723366800-1723370400@pier450.com
SUMMARY:Beach Bootcamp with Hype House
DESCRIPTION:
URL:https://pier450.com/event/beach-bootcamp/
LOCATION:Pier450\, 48342 Wynne Road\, Ridge\, 20680\, United States
CATEGORIES:Activities,Fitness
ATTACH;FMTTYPE=image/jpeg:https://pier450.com/wp-content/uploads/2024/08/beach-bootcamp-featured.jpg
END:VEVENT
BEGIN:VEVENT
DTSTART;TZID=UTC:20240803T110000
DTEND;TZID=UTC:20240803T120000
DTSTAMP:20260420T002426
CREATED:20240719T200902Z
LAST-MODIFIED:20240719T201105Z
UID:10001003-1722682800-1722686400@pier450.com
SUMMARY:Floral Design with Lolly Amons
DESCRIPTION:
URL:https://pier450.com/event/floral-design-with-lolly-amons/
LOCATION:Pier450\, 48342 Wynne Road\, Ridge\, 20680\, United States
CATEGORIES:Activities
ATTACH;FMTTYPE=image/jpeg:https://pier450.com/wp-content/uploads/2024/07/floral-design.jpg
END:VEVENT
BEGIN:VEVENT
DTSTART;TZID=UTC:20240727T110000
DTEND;TZID=UTC:20240727T130000
DTSTAMP:20260420T002426
CREATED:20240709T210033Z
LAST-MODIFIED:20240709T210151Z
UID:10000999-1722078000-1722085200@pier450.com
SUMMARY:Curating & Cooking: Herbs with Carlos
DESCRIPTION:
URL:https://pier450.com/event/cooking-herbs-with-carlos/
LOCATION:Pier450\, 48342 Wynne Road\, Ridge\, 20680\, United States
CATEGORIES:Activities
ATTACH;FMTTYPE=image/jpeg:https://pier450.com/wp-content/uploads/2024/07/herbs-carlos.jpg
END:VEVENT
BEGIN:VEVENT
DTSTART;TZID=UTC:20240725T183000
DTEND;TZID=UTC:20240725T203000
DTSTAMP:20260420T002426
CREATED:20240630T055521Z
LAST-MODIFIED:20240630T175454Z
UID:10000470-1721932200-1721939400@pier450.com
SUMMARY:The Wines of Ancient Peaks Winery
DESCRIPTION:
URL:https://pier450.com/event/ancient-peaks/
LOCATION:Pier450\, 48342 Wynne Road\, Ridge\, 20680\, United States
CATEGORIES:Wine Events
ATTACH;FMTTYPE=image/jpeg:https://pier450.com/wp-content/uploads/2024/06/ancient-peaks.jpg
END:VEVENT
BEGIN:VEVENT
DTSTART;TZID=UTC:20240721T181500
DTEND;TZID=UTC:20240721T194500
DTSTAMP:20260420T002426
CREATED:20240422T183327Z
LAST-MODIFIED:20240422T192443Z
UID:10000985-1721585700-1721591100@pier450.com
SUMMARY:Sunset Cruises with Captain Phil
DESCRIPTION:6/9  6:30 pm  Reserve your spot\n7/21  6:15 pm  Reserve your spot\n8/11  6:00 pm  Reserve your spot\n9/15  5:15 pm  Reserve your spot
URL:https://pier450.com/event/sunset-cruises-with-captain-phil/2024-07-21/
LOCATION:Pier450\, 48342 Wynne Road\, Ridge\, 20680\, United States
CATEGORIES:Activities
ATTACH;FMTTYPE=image/jpeg:https://pier450.com/wp-content/uploads/2024/03/sunset-cruises-at-p450.jpg
END:VEVENT
BEGIN:VEVENT
DTSTART;TZID=UTC:20240707T090000
DTEND;TZID=UTC:20240707T100000
DTSTAMP:20260420T002426
CREATED:20240322T173425Z
LAST-MODIFIED:20240602T234226Z
UID:10000997-1720342800-1720346400@pier450.com
SUMMARY:Yoga with Shannon Dame
DESCRIPTION:An exciting addition to the calendar at Pier450 — Yoga on the deck with Shannon Dame.\n\n60 minutes of yoga\, stretching and breathing \n$25/person includes a complimentary mimosa after class
URL:https://pier450.com/event/yoga-with-shannon-dame/2024-07-07/
LOCATION:Pier450\, 48342 Wynne Road\, Ridge\, 20680\, United States
CATEGORIES:Activities,Fitness
ATTACH;FMTTYPE=image/jpeg:https://pier450.com/wp-content/uploads/2024/03/yoga-promo-shannon.jpg
END:VEVENT
BEGIN:VEVENT
DTSTART;TZID=UTC:20240630T090000
DTEND;TZID=UTC:20240630T101500
DTSTAMP:20260420T002426
CREATED:20240322T171950Z
LAST-MODIFIED:20240322T173211Z
UID:10000960-1719738000-1719742500@pier450.com
SUMMARY:Hatha Vinyasa Yoga with Nancy Uma
DESCRIPTION:An exciting addition to the calendar at Pier450 — Hatha Vinyasa yoga on the beach with Nancy Uma.\n\n75 minutes of yoga\, stretching and breathing \n$30 includes a mimosa after class. \n\n\nNancy Uma Teaches a Hatha combination Vinyasa yoga practice. Traditional poses are held longer and some poses are integrated into a flow (Vinyasa). Along with the traditional poses\, she will introduce yin (long stretching ) with breathing practice. Wrapping up the class with a long-guided relaxation. She offers an intentional\, mindful practice that allows you to connect to your physical\, mental and emotional body. A balanced combination leaving the body and mind both calm and clear.
URL:https://pier450.com/event/yoga-at-pier450/2024-06-30/
LOCATION:Pier450\, 48342 Wynne Road\, Ridge\, 20680\, United States
CATEGORIES:Activities,Fitness
ATTACH;FMTTYPE=image/jpeg:https://pier450.com/wp-content/uploads/2023/09/yoga-promo-new.jpg
END:VEVENT
BEGIN:VEVENT
DTSTART;TZID=UTC:20240629T100000
DTEND;TZID=UTC:20240629T120000
DTSTAMP:20260420T002426
CREATED:20230720T051254Z
LAST-MODIFIED:20240424T203200Z
UID:10000989-1719655200-1719662400@pier450.com
SUMMARY:Dog Days at Pier450
DESCRIPTION:
URL:https://pier450.com/event/dog-days-at-pier450/2024-06-29/
LOCATION:Pier450\, 48342 Wynne Road\, Ridge\, 20680\, United States
CATEGORIES:Activities,Other
ATTACH;FMTTYPE=image/jpeg:https://pier450.com/wp-content/uploads/2023/07/dog-days.jpg
END:VEVENT
BEGIN:VEVENT
DTSTART;TZID=UTC:20240609T183000
DTEND;TZID=UTC:20240609T200000
DTSTAMP:20260420T002426
CREATED:20240422T183327Z
LAST-MODIFIED:20240422T192443Z
UID:10000984-1717957800-1717963200@pier450.com
SUMMARY:Sunset Cruises with Captain Phil
DESCRIPTION:6/9  6:30 pm  Reserve your spot\n7/21  6:15 pm  Reserve your spot\n8/11  6:00 pm  Reserve your spot\n9/15  5:15 pm  Reserve your spot
URL:https://pier450.com/event/sunset-cruises-with-captain-phil/2024-06-09/
LOCATION:Pier450\, 48342 Wynne Road\, Ridge\, 20680\, United States
CATEGORIES:Activities
ATTACH;FMTTYPE=image/jpeg:https://pier450.com/wp-content/uploads/2024/03/sunset-cruises-at-p450.jpg
END:VEVENT
BEGIN:VEVENT
DTSTART;TZID=UTC:20240602T090000
DTEND;TZID=UTC:20240602T100000
DTSTAMP:20260420T002426
CREATED:20240322T173425Z
LAST-MODIFIED:20240602T234226Z
UID:10000996-1717318800-1717322400@pier450.com
SUMMARY:Yoga with Shannon Dame
DESCRIPTION:An exciting addition to the calendar at Pier450 — Yoga on the deck with Shannon Dame.\n\n60 minutes of yoga\, stretching and breathing \n$25/person includes a complimentary mimosa after class
URL:https://pier450.com/event/yoga-with-shannon-dame/2024-06-02/
LOCATION:Pier450\, 48342 Wynne Road\, Ridge\, 20680\, United States
CATEGORIES:Activities,Fitness
ATTACH;FMTTYPE=image/jpeg:https://pier450.com/wp-content/uploads/2024/03/yoga-promo-shannon.jpg
END:VEVENT
BEGIN:VEVENT
DTSTART;TZID=UTC:20240526T090000
DTEND;TZID=UTC:20240526T101500
DTSTAMP:20260420T002426
CREATED:20240322T171950Z
LAST-MODIFIED:20240322T173211Z
UID:10000017-1716714000-1716718500@pier450.com
SUMMARY:Hatha Vinyasa Yoga with Nancy Uma
DESCRIPTION:An exciting addition to the calendar at Pier450 — Hatha Vinyasa yoga on the beach with Nancy Uma.\n\n75 minutes of yoga\, stretching and breathing \n$30 includes a mimosa after class. \n\n\nNancy Uma Teaches a Hatha combination Vinyasa yoga practice. Traditional poses are held longer and some poses are integrated into a flow (Vinyasa). Along with the traditional poses\, she will introduce yin (long stretching ) with breathing practice. Wrapping up the class with a long-guided relaxation. She offers an intentional\, mindful practice that allows you to connect to your physical\, mental and emotional body. A balanced combination leaving the body and mind both calm and clear.
URL:https://pier450.com/event/yoga-at-pier450/2024-05-26/
LOCATION:Pier450\, 48342 Wynne Road\, Ridge\, 20680\, United States
CATEGORIES:Activities,Fitness
ATTACH;FMTTYPE=image/jpeg:https://pier450.com/wp-content/uploads/2023/09/yoga-promo-new.jpg
END:VEVENT
BEGIN:VEVENT
DTSTART;TZID=UTC:20240525T100000
DTEND;TZID=UTC:20240525T120000
DTSTAMP:20260420T002426
CREATED:20230720T051254Z
LAST-MODIFIED:20240424T203200Z
UID:10000988-1716631200-1716638400@pier450.com
SUMMARY:Dog Days at Pier450
DESCRIPTION:
URL:https://pier450.com/event/dog-days-at-pier450/2024-05-25/
LOCATION:Pier450\, 48342 Wynne Road\, Ridge\, 20680\, United States
CATEGORIES:Activities,Other
ATTACH;FMTTYPE=image/jpeg:https://pier450.com/wp-content/uploads/2023/07/dog-days.jpg
END:VEVENT
BEGIN:VEVENT
DTSTART;TZID=UTC:20240524T120000
DTEND;TZID=UTC:20240527T200000
DTSTAMP:20260420T002426
CREATED:20240125T191223Z
LAST-MODIFIED:20240502T220356Z
UID:10000018-1716552000-1716840000@pier450.com
SUMMARY:Memorial Day Weekend 2024
DESCRIPTION:
URL:https://pier450.com/event/memorial-day-weekend-2024/
LOCATION:Pier450\, 48342 Wynne Road\, Ridge\, 20680\, United States
CATEGORIES:Holiday/Special Occasion
ATTACH;FMTTYPE=image/png:https://pier450.com/wp-content/uploads/2023/04/mem-day.png
END:VEVENT
BEGIN:VEVENT
DTSTART;TZID=UTC:20240523T173000
DTEND;TZID=UTC:20240523T193000
DTSTAMP:20260420T002426
CREATED:20240514T190858Z
LAST-MODIFIED:20240514T190858Z
UID:10000993-1716485400-1716492600@pier450.com
SUMMARY:Tequila Tasting at Pier450
DESCRIPTION:
URL:https://pier450.com/event/tequila-tasting-at-pier450/
LOCATION:Pier450\, 48342 Wynne Road\, Ridge\, 20680\, United States
CATEGORIES:Activities
ATTACH;FMTTYPE=image/jpeg:https://pier450.com/wp-content/uploads/2024/05/tequila-tasting-p450.jpg
END:VEVENT
BEGIN:VEVENT
DTSTART;TZID=UTC:20240511T110000
DTEND;TZID=UTC:20240511T120000
DTSTAMP:20260420T002426
CREATED:20240322T173425Z
LAST-MODIFIED:20240602T234226Z
UID:10000992-1715425200-1715428800@pier450.com
SUMMARY:Yoga with Shannon Dame
DESCRIPTION:An exciting addition to the calendar at Pier450 — Yoga on the deck with Shannon Dame.\n\n60 minutes of yoga\, stretching and breathing \n$25/person includes a complimentary mimosa after class
URL:https://pier450.com/event/yoga-with-shannon-dame/2024-05-11/
LOCATION:Pier450\, 48342 Wynne Road\, Ridge\, 20680\, United States
CATEGORIES:Activities,Fitness
ATTACH;FMTTYPE=image/jpeg:https://pier450.com/wp-content/uploads/2024/03/yoga-promo-shannon.jpg
END:VEVENT
BEGIN:VEVENT
DTSTART;TZID=UTC:20240505T180000
DTEND;TZID=UTC:20240505T200000
DTSTAMP:20260420T002426
CREATED:20240118T234535Z
LAST-MODIFIED:20240118T235119Z
UID:10000323-1714932000-1714939200@pier450.com
SUMMARY:Chef's Tasting Dinner – Belize
DESCRIPTION:
URL:https://pier450.com/event/chefs-tasting-dinner-belize/
LOCATION:Pier450\, 48342 Wynne Road\, Ridge\, 20680\, United States
CATEGORIES:Chef's Tastings
ATTACH;FMTTYPE=image/jpeg:https://pier450.com/wp-content/uploads/2024/01/belize.jpg
END:VEVENT
BEGIN:VEVENT
DTSTART;TZID=UTC:20240505T090000
DTEND;TZID=UTC:20240505T100000
DTSTAMP:20260420T002426
CREATED:20240322T173425Z
LAST-MODIFIED:20240602T234226Z
UID:10000963-1714899600-1714903200@pier450.com
SUMMARY:Yoga with Shannon Dame
DESCRIPTION:An exciting addition to the calendar at Pier450 — Yoga on the deck with Shannon Dame.\n\n60 minutes of yoga\, stretching and breathing \n$25/person includes a complimentary mimosa after class
URL:https://pier450.com/event/yoga-with-shannon-dame/2024-05-05/
LOCATION:Pier450\, 48342 Wynne Road\, Ridge\, 20680\, United States
CATEGORIES:Activities,Fitness
ATTACH;FMTTYPE=image/jpeg:https://pier450.com/wp-content/uploads/2024/03/yoga-promo-shannon.jpg
END:VEVENT
BEGIN:VEVENT
DTSTART;TZID=UTC:20240421T180000
DTEND;TZID=UTC:20240421T200000
DTSTAMP:20260420T002426
CREATED:20240119T000121Z
LAST-MODIFIED:20240119T000121Z
UID:10000328-1713722400-1713729600@pier450.com
SUMMARY:Chef's Tasting Dinner – Malta
DESCRIPTION:
URL:https://pier450.com/event/chefs-tasting-dinner-malta/
LOCATION:Pier450\, 48342 Wynne Road\, Ridge\, 20680\, United States
CATEGORIES:Chef's Tastings
ATTACH;FMTTYPE=image/jpeg:https://pier450.com/wp-content/uploads/2024/01/malta.jpg
END:VEVENT
BEGIN:VEVENT
DTSTART;TZID=UTC:20240407T180000
DTEND;TZID=UTC:20240407T200000
DTSTAMP:20260420T002426
CREATED:20240118T235949Z
LAST-MODIFIED:20240325T202141Z
UID:10000327-1712512800-1712520000@pier450.com
SUMMARY:Chef's Tasting Dinner – Provence
DESCRIPTION:
URL:https://pier450.com/event/chefs-tasting-dinner-provence/
LOCATION:Pier450\, 48342 Wynne Road\, Ridge\, 20680\, United States
CATEGORIES:Chef's Tastings
ATTACH;FMTTYPE=image/jpeg:https://pier450.com/wp-content/uploads/2024/01/provence.jpg
END:VEVENT
BEGIN:VEVENT
DTSTART;TZID=UTC:20240317T180000
DTEND;TZID=UTC:20240317T200000
DTSTAMP:20260420T002426
CREATED:20240118T235745Z
LAST-MODIFIED:20240308T210806Z
UID:10000326-1710698400-1710705600@pier450.com
SUMMARY:Chef's Tasting Dinner – Philippines
DESCRIPTION:
URL:https://pier450.com/event/chefs-tasting-dinner-philippines/
LOCATION:Pier450\, 48342 Wynne Road\, Ridge\, 20680\, United States
CATEGORIES:Chef's Tastings
ATTACH;FMTTYPE=image/jpeg:https://pier450.com/wp-content/uploads/2024/01/phillipines.jpg
END:VEVENT
BEGIN:VEVENT
DTSTART;TZID=UTC:20240317T110000
DTEND;TZID=UTC:20240317T150000
DTSTAMP:20260420T002426
CREATED:20240307T231948Z
LAST-MODIFIED:20240314T221723Z
UID:10000957-1710673200-1710687600@pier450.com
SUMMARY:Celebrate St. Patrick's Day at Pier450
DESCRIPTION:
URL:https://pier450.com/event/celebrate-st-patricks-day-at-pier450/
LOCATION:Pier450\, 48342 Wynne Road\, Ridge\, 20680\, United States
CATEGORIES:Holiday/Special Occasion
ATTACH;FMTTYPE=image/png:https://pier450.com/wp-content/uploads/2024/03/st-patricks-day-featured.png
END:VEVENT
BEGIN:VEVENT
DTSTART;TZID=UTC:20240316T120000
DTEND;TZID=UTC:20240316T133000
DTSTAMP:20260420T002426
CREATED:20240314T221923Z
LAST-MODIFIED:20240314T221923Z
UID:10000958-1710590400-1710595800@pier450.com
SUMMARY:Silent Auction!
DESCRIPTION:We’ve accumulated more vintage and new artwork\, jewelry\, furniture and lamps\, decor items and fashion accessories than we could ever possibly fit in our little shop. Take away some real treasures! Will also include opportunities to bid on gift cards\, weekend packages and more.
URL:https://pier450.com/event/silent-auction/
LOCATION:Pier450\, 48342 Wynne Road\, Ridge\, 20680\, United States
CATEGORIES:Activities
ATTACH;FMTTYPE=image/jpeg:https://pier450.com/wp-content/uploads/2024/03/silent-auction-featured.jpg
END:VEVENT
BEGIN:VEVENT
DTSTART;TZID=UTC:20240303T180000
DTEND;TZID=UTC:20240303T200000
DTSTAMP:20260420T002426
CREATED:20240118T235250Z
LAST-MODIFIED:20240226T211949Z
UID:10000325-1709488800-1709496000@pier450.com
SUMMARY:Chef's Tasting Dinner – India
DESCRIPTION:
URL:https://pier450.com/event/chefs-tasting-dinner-india/
LOCATION:Pier450\, 48342 Wynne Road\, Ridge\, 20680\, United States
CATEGORIES:Chef's Tastings
ATTACH;FMTTYPE=image/jpeg:https://pier450.com/wp-content/uploads/2024/01/india.jpg
END:VEVENT
BEGIN:VEVENT
DTSTART;TZID=UTC:20240218T180000
DTEND;TZID=UTC:20240218T200000
DTSTAMP:20260420T002426
CREATED:20240118T234917Z
LAST-MODIFIED:20240124T225851Z
UID:10000324-1708279200-1708286400@pier450.com
SUMMARY:Chef's Tasting Dinner – Zanzibar
DESCRIPTION:
URL:https://pier450.com/event/chefs-tasting-dinner-zanzibar/
LOCATION:Pier450\, 48342 Wynne Road\, Ridge\, 20680\, United States
CATEGORIES:Chef's Tastings
ATTACH;FMTTYPE=image/jpeg:https://pier450.com/wp-content/uploads/2024/01/zanzibar.jpg
END:VEVENT
END:VCALENDAR