BEGIN:VCALENDAR
VERSION:2.0
PRODID:-//Pier450 in St. Mary&#039;s County, MD | Boutique Motel, Restaurant and Beach - ECPv6.15.20//NONSGML v1.0//EN
CALSCALE:GREGORIAN
METHOD:PUBLISH
X-WR-CALNAME:Pier450 in St. Mary&#039;s County, MD | Boutique Motel, Restaurant and Beach
X-ORIGINAL-URL:https://pier450.com
X-WR-CALDESC:Events for Pier450 in St. Mary&#039;s County, MD | Boutique Motel, Restaurant and Beach
REFRESH-INTERVAL;VALUE=DURATION:PT1H
X-Robots-Tag:noindex
X-PUBLISHED-TTL:PT1H
BEGIN:VTIMEZONE
TZID:UTC
BEGIN:STANDARD
TZOFFSETFROM:+0000
TZOFFSETTO:+0000
TZNAME:UTC
DTSTART:20220101T000000
END:STANDARD
END:VTIMEZONE
BEGIN:VEVENT
DTSTART;TZID=UTC:20230902T100000
DTEND;TZID=UTC:20230902T210000
DTSTAMP:20260420T023736
CREATED:20230825T231845Z
LAST-MODIFIED:20230825T231845Z
UID:10000034-1693648800-1693688400@pier450.com
SUMMARY:Designer Stockroom Sale
DESCRIPTION:
URL:https://pier450.com/event/designer-stockroom-sale/
LOCATION:Pier450\, 48342 Wynne Road\, Ridge\, 20680\, United States
CATEGORIES:Activities
ATTACH;FMTTYPE=image/png:https://pier450.com/wp-content/uploads/2023/08/vintage-sale-2023-2.png
END:VEVENT
BEGIN:VEVENT
DTSTART;TZID=UTC:20230812T160000
DTEND;TZID=UTC:20230812T190000
DTSTAMP:20260420T023736
CREATED:20230809T190209Z
LAST-MODIFIED:20230809T190209Z
UID:10000032-1691856000-1691866800@pier450.com
SUMMARY:Live Music by Ben Connolly at P450!
DESCRIPTION:Friday Aug. 12 \n4-7 pm\nIn the restaurant\nLive music by Ben Connolly \nDinner Reservations
URL:https://pier450.com/event/live-music-by-ben-connolly-at-p450/
LOCATION:Pier450\, 48342 Wynne Road\, Ridge\, 20680\, United States
CATEGORIES:Activities
ATTACH;FMTTYPE=image/jpeg:https://pier450.com/wp-content/uploads/2023/08/live-music.jpg
END:VEVENT
BEGIN:VEVENT
DTSTART;TZID=UTC:20230811T150000
DTEND;TZID=UTC:20230813T170000
DTSTAMP:20260420T023736
CREATED:20230729T203713Z
LAST-MODIFIED:20230808T180948Z
UID:10000028-1691766000-1691946000@pier450.com
SUMMARY:Educators' Last Hoorah!
DESCRIPTION:A little R&R time before you head back to school! \nFriday August 11\nHappy Hour 3-5pm\nDiscount drinks and complimentary appetizers \nSaturday August 12\nBeach Party 2-5pm\nGames\, discount drinks\, reserved beach space\, complimentary kayaks \nSunday August 13\nAll day discounts at special Mimosa & Bloody Mary bar \nDISCOUNTS WITH SCHOOL ID ONLY
URL:https://pier450.com/event/educators-last-hoorah/
LOCATION:Pier450\, 48342 Wynne Road\, Ridge\, 20680\, United States
CATEGORIES:Activities,Other
ATTACH;FMTTYPE=image/png:https://pier450.com/wp-content/uploads/2023/04/last-hoorah.png
END:VEVENT
BEGIN:VEVENT
DTSTART;TZID=UTC:20230811T150000
DTEND;TZID=UTC:20230811T190000
DTSTAMP:20260420T023736
CREATED:20230809T185835Z
LAST-MODIFIED:20230809T185940Z
UID:10000029-1691766000-1691780400@pier450.com
SUMMARY:Live Music by Jacob Allen on the beach!
DESCRIPTION:Friday Aug. 11 \n3-7 pm\nOn the beach\nLive music by Jacob Allen \nDinner Reservations
URL:https://pier450.com/event/live-music-aug11/
LOCATION:Pier450\, 48342 Wynne Road\, Ridge\, 20680\, United States
CATEGORIES:Activities
ATTACH;FMTTYPE=image/jpeg:https://pier450.com/wp-content/uploads/2023/08/live-music.jpg
END:VEVENT
BEGIN:VEVENT
DTSTART;TZID=UTC:20230723T100000
DTEND;TZID=UTC:20230723T233000
DTSTAMP:20260420T023736
CREATED:20230418T182832Z
LAST-MODIFIED:20230418T182832Z
UID:10000016-1690106400-1690155000@pier450.com
SUMMARY:Hatha Vinyasa Yoga with Nancy Uma
DESCRIPTION:An exciting addition to the calendar at Pier450 — Hatha Vinyasa yoga on the beach with Nancy Uma.\n\nSunday July 23\n10:00 am\n$30/person\n\n75 minutes of yoga\, stretching and breathing \nPrice includes a mimosa after class.\nRegister here \n\n\nNancy Uma Teaches a Hatha combination Vinyasa yoga practice. Traditional poses are held longer and some poses are integrated into a flow (Vinyasa). Along with the traditional poses\, she will introduce yin (long stretching ) with breathing practice. Wrapping up the class with a long-guided relaxation. She offers an intentional\, mindful practice that allows you to connect to your physical\, mental and emotional body. A balanced combination leaving the body and mind both calm and clear.
URL:https://pier450.com/event/yoga-07-23-23/
LOCATION:Pier450\, 48342 Wynne Road\, Ridge\, 20680\, United States
CATEGORIES:Activities
ATTACH;FMTTYPE=image/jpeg:https://pier450.com/wp-content/uploads/2023/04/yoga-on-pier450-waterfront.jpg
END:VEVENT
BEGIN:VEVENT
DTSTART;TZID=UTC:20230703T110000
DTEND;TZID=UTC:20230703T200000
DTSTAMP:20260420T023736
CREATED:20230609T185404Z
LAST-MODIFIED:20230626T184651Z
UID:10000024-1688382000-1688414400@pier450.com
SUMMARY:Open Monday July 3rd!
DESCRIPTION:Reserve a Table\nReserve a Room \nSpecial Hours\nMonday July 3rd\n11-8:00 pm
URL:https://pier450.com/event/celebrate-july-4th-at-pier450/
LOCATION:Pier450\, 48342 Wynne Road\, Ridge\, 20680\, United States
CATEGORIES:Holiday/Special Occasion
ATTACH;FMTTYPE=image/jpeg:https://pier450.com/wp-content/uploads/2023/06/july-4-pier450.jpg
END:VEVENT
BEGIN:VEVENT
DTSTART;TZID=UTC:20230521T190000
DTEND;TZID=UTC:20230521T213000
DTSTAMP:20260420T023736
CREATED:20230427T180720Z
LAST-MODIFIED:20230508T234509Z
UID:10000021-1684695600-1684704600@pier450.com
SUMMARY:Under the Tuscan Sun
DESCRIPTION:View the Menu\nReserve a Table \n \nOutdoors and summer-fresh — a menu of in-season delicacies in The Yards at Pier450.
URL:https://pier450.com/event/under-tuscan-sun-dinner/
LOCATION:Pier450\, 48342 Wynne Road\, Ridge\, 20680\, United States
CATEGORIES:Activities,Chef's Tastings,Wine Events
ATTACH;FMTTYPE=image/jpeg:https://pier450.com/wp-content/uploads/2023/04/tuscan.jpg
END:VEVENT
BEGIN:VEVENT
DTSTART;TZID=UTC:20230514T100000
DTEND;TZID=UTC:20230514T200000
DTSTAMP:20260420T023736
CREATED:20230425T182304Z
LAST-MODIFIED:20230425T182304Z
UID:10000019-1684058400-1684094400@pier450.com
SUMMARY:Mother's Day
DESCRIPTION:
URL:https://pier450.com/event/mothers-day-2023/
LOCATION:Pier450\, 48342 Wynne Road\, Ridge\, 20680\, United States
CATEGORIES:Holiday/Special Occasion
ATTACH;FMTTYPE=image/jpeg:https://pier450.com/wp-content/uploads/2023/04/mothers-day.jpg
END:VEVENT
BEGIN:VEVENT
DTSTART;TZID=UTC:20230511T170000
DTEND;TZID=UTC:20230511T190000
DTSTAMP:20260420T023736
CREATED:20230502T044417Z
LAST-MODIFIED:20230502T044730Z
UID:10000022-1683824400-1683831600@pier450.com
SUMMARY:A Special Wine Pairing Dinner w/ Xella Winery
DESCRIPTION:Reserve a Table
URL:https://pier450.com/event/a-special-wine-pairing-dinner/
LOCATION:Pier450\, 48342 Wynne Road\, Ridge\, 20680\, United States
CATEGORIES:Wine Events
ATTACH;FMTTYPE=image/jpeg:https://pier450.com/wp-content/uploads/2023/05/xella-wine.jpg
END:VEVENT
BEGIN:VEVENT
DTSTART;TZID=UTC:20230507T100000
DTEND;TZID=UTC:20230507T233000
DTSTAMP:20260420T023736
CREATED:20230418T182622Z
LAST-MODIFIED:20230418T182622Z
UID:10000015-1683453600-1683502200@pier450.com
SUMMARY:Hatha Vinyasa Yoga with Nancy Uma
DESCRIPTION:An exciting addition to the calendar at Pier450 — Hatha Vinyasa yoga on the beach with Nancy Uma.\n\nSunday May 7\n10:00 am\n$30/person\n\n75 minutes of yoga\, stretching and breathing \nPrice includes a mimosa after class.\nRegister here \n\n\nNancy Uma Teaches a Hatha combination Vinyasa yoga practice. Traditional poses are held longer and some poses are integrated into a flow (Vinyasa). Along with the traditional poses\, she will introduce yin (long stretching ) with breathing practice. Wrapping up the class with a long-guided relaxation. She offers an intentional\, mindful practice that allows you to connect to your physical\, mental and emotional body. A balanced combination leaving the body and mind both calm and clear.
URL:https://pier450.com/event/yoga-05-07-23/
LOCATION:Pier450\, 48342 Wynne Road\, Ridge\, 20680\, United States
CATEGORIES:Activities
ATTACH;FMTTYPE=image/jpeg:https://pier450.com/wp-content/uploads/2023/04/yoga-on-pier450-waterfront.jpg
END:VEVENT
BEGIN:VEVENT
DTSTART;TZID=UTC:20230505T180000
DTEND;TZID=UTC:20230505T200000
DTSTAMP:20260420T023736
CREATED:20240118T234229Z
LAST-MODIFIED:20240118T234229Z
UID:10000322-1683309600-1683316800@pier450.com
SUMMARY:Chef's Tasting Dinner – Belize
DESCRIPTION:
URL:https://pier450.com/event/chefs-tasting-belize/
LOCATION:Pier450\, 48342 Wynne Road\, Ridge\, 20680\, United States
CATEGORIES:Chef's Tastings
ATTACH;FMTTYPE=image/jpeg:https://pier450.com/wp-content/uploads/2024/01/belize.jpg
END:VEVENT
BEGIN:VEVENT
DTSTART;TZID=UTC:20230430T180000
DTEND;TZID=UTC:20230430T200000
DTSTAMP:20260420T023736
CREATED:20230210T223207Z
LAST-MODIFIED:20230425T215827Z
UID:10000006-1682877600-1682884800@pier450.com
SUMMARY:The Soul of Nashville
DESCRIPTION:View the Menu Reserve a Table
URL:https://pier450.com/event/the-soul-of-nashville/
LOCATION:Pier450\, 48342 Wynne Road\, Ridge\, 20680\, United States
CATEGORIES:Chef's Tastings
ATTACH;FMTTYPE=image/jpeg:https://pier450.com/wp-content/uploads/2023/02/nashville.jpg
END:VEVENT
BEGIN:VEVENT
DTSTART;TZID=UTC:20230423T100000
DTEND;TZID=UTC:20230423T233000
DTSTAMP:20260420T023736
CREATED:20230413T211306Z
LAST-MODIFIED:20230418T182349Z
UID:10000014-1682244000-1682292600@pier450.com
SUMMARY:Hatha Vinyasa Yoga with Nancy Uma
DESCRIPTION:An exciting addition to the calendar at Pier450 — Hatha Vinyasa yoga on the beach with Nancy Uma.\n\nSunday April 23\n10:00 am\n$30/person\n\n75 minutes of yoga\, stretching and breathing \nPrice includes a mimosa after class.\nRegister here \n\n\nNancy Uma Teaches a Hatha combination Vinyasa yoga practice. Traditional poses are held longer and some poses are integrated into a flow (Vinyasa). Along with the traditional poses\, she will introduce yin (long stretching ) with breathing practice. Wrapping up the class with a long-guided relaxation. She offers an intentional\, mindful practice that allows you to connect to your physical\, mental and emotional body. A balanced combination leaving the body and mind both calm and clear.
URL:https://pier450.com/event/yoga-04-23-23/
LOCATION:Pier450\, 48342 Wynne Road\, Ridge\, 20680\, United States
CATEGORIES:Activities
ATTACH;FMTTYPE=image/jpeg:https://pier450.com/wp-content/uploads/2023/04/yoga-on-pier450-waterfront.jpg
END:VEVENT
BEGIN:VEVENT
DTSTART;TZID=UTC:20230416T180000
DTEND;TZID=UTC:20230416T200000
DTSTAMP:20260420T023736
CREATED:20230210T223102Z
LAST-MODIFIED:20230315T215317Z
UID:10000002-1681668000-1681675200@pier450.com
SUMMARY:The Diverse Flavors of Burma
DESCRIPTION:Reserve a Table
URL:https://pier450.com/event/diverse-flavors-of-burma/
LOCATION:Pier450\, 48342 Wynne Road\, Ridge\, 20680\, United States
CATEGORIES:Chef's Tastings
ATTACH;FMTTYPE=image/jpeg:https://pier450.com/wp-content/uploads/2023/02/burma.jpg
END:VEVENT
BEGIN:VEVENT
DTSTART;TZID=UTC:20230409T100000
DTEND;TZID=UTC:20230409T200000
DTSTAMP:20260420T023736
CREATED:20230315T222724Z
LAST-MODIFIED:20230315T222737Z
UID:10000011-1681034400-1681070400@pier450.com
SUMMARY:Celebrate Easter at Pier450
DESCRIPTION:
URL:https://pier450.com/event/easter-at-pier450/
LOCATION:Pier450\, 48342 Wynne Road\, Ridge\, 20680\, United States
CATEGORIES:Holiday/Special Occasion
ATTACH;FMTTYPE=image/png:https://pier450.com/wp-content/uploads/2023/03/easter.png
END:VEVENT
BEGIN:VEVENT
DTSTART;TZID=UTC:20230402T180000
DTEND;TZID=UTC:20230402T200000
DTSTAMP:20260420T023736
CREATED:20230210T222906Z
LAST-MODIFIED:20230324T185616Z
UID:10000001-1680458400-1680465600@pier450.com
SUMMARY:Modern Miami Fusion
DESCRIPTION:Reserve a Table \nView the Menu
URL:https://pier450.com/event/modern-miami-fusion/
LOCATION:Pier450\, 48342 Wynne Road\, Ridge\, 20680\, United States
CATEGORIES:Chef's Tastings
ATTACH;FMTTYPE=image/jpeg:https://pier450.com/wp-content/uploads/2023/02/miami.jpg
END:VEVENT
BEGIN:VEVENT
DTSTART;TZID=UTC:20230326T170000
DTEND;TZID=UTC:20230326T180000
DTSTAMP:20260420T023736
CREATED:20230322T211735Z
LAST-MODIFIED:20230322T212117Z
UID:10000013-1679850000-1679853600@pier450.com
SUMMARY:Special Reception at Pier450 following St. Mary's College Faculty Recital
DESCRIPTION:Dinner Reservations
URL:https://pier450.com/event/special-reception/
LOCATION:Pier450\, 48342 Wynne Road\, Ridge\, 20680\, United States
CATEGORIES:Other
ATTACH;FMTTYPE=image/jpeg:https://pier450.com/wp-content/uploads/2023/03/SMC.jpg
END:VEVENT
BEGIN:VEVENT
DTSTART;TZID=UTC:20230325T120000
DTEND;TZID=UTC:20230325T180000
DTSTAMP:20260420T023736
CREATED:20230321T044130Z
LAST-MODIFIED:20230321T044434Z
UID:10000012-1679745600-1679767200@pier450.com
SUMMARY:Complimentary Personal Styling with Sophie Blake
DESCRIPTION:
URL:https://pier450.com/event/styling-with-sophie-blake/
LOCATION:Pier450\, 48342 Wynne Road\, Ridge\, 20680\, United States
CATEGORIES:Other
ATTACH;FMTTYPE=image/jpeg:https://pier450.com/wp-content/uploads/2023/03/soph.jpg
END:VEVENT
BEGIN:VEVENT
DTSTART;TZID=UTC:20230319T180000
DTEND;TZID=UTC:20230319T200000
DTSTAMP:20260420T023736
CREATED:20230210T222732Z
LAST-MODIFIED:20230315T220430Z
UID:10000005-1679248800-1679256000@pier450.com
SUMMARY:Crossroads — The Persian Empire
DESCRIPTION:Reserve a Table \nView the Menu
URL:https://pier450.com/event/crossroads-the-persian-empire/
LOCATION:Pier450\, 48342 Wynne Road\, Ridge\, 20680\, United States
CATEGORIES:Chef's Tastings
ATTACH;FMTTYPE=image/jpeg:https://pier450.com/wp-content/uploads/2023/02/persian.jpg
END:VEVENT
BEGIN:VEVENT
DTSTART;TZID=UTC:20230317T160000
DTEND;TZID=UTC:20230317T220000
DTSTAMP:20260420T023736
CREATED:20230315T222213Z
LAST-MODIFIED:20230315T222213Z
UID:10000010-1679068800-1679090400@pier450.com
SUMMARY:Join us for St. Patrick's Day
DESCRIPTION:
URL:https://pier450.com/event/join-us-for-st-patricks-day/
LOCATION:Pier450\, 48342 Wynne Road\, Ridge\, 20680\, United States
CATEGORIES:Holiday/Special Occasion
ATTACH;FMTTYPE=image/png:https://pier450.com/wp-content/uploads/2023/03/st-patricks-day.png
END:VEVENT
BEGIN:VEVENT
DTSTART;TZID=UTC:20230305T173000
DTEND;TZID=UTC:20230305T193000
DTSTAMP:20260420T023736
CREATED:20230210T220157Z
LAST-MODIFIED:20230211T201244Z
UID:10000004-1678037400-1678044600@pier450.com
SUMMARY:The Rich Flavors of Portugal
DESCRIPTION:
URL:https://pier450.com/event/rich-flavors-of-portugal/
LOCATION:Pier450\, 48342 Wynne Road\, Ridge\, 20680\, United States
CATEGORIES:Chef's Tastings
ATTACH;FMTTYPE=image/jpeg:https://pier450.com/wp-content/uploads/2023/02/portugal.jpg
END:VEVENT
BEGIN:VEVENT
DTSTART;TZID=UTC:20230220T110000
DTEND;TZID=UTC:20230220T150000
DTSTAMP:20260420T023736
CREATED:20230211T200206Z
LAST-MODIFIED:20230214T005756Z
UID:10000008-1676890800-1676905200@pier450.com
SUMMARY:President's Day Lunch
DESCRIPTION:
URL:https://pier450.com/event/pres-day-lunch-2023/
LOCATION:Pier450\, 48342 Wynne Road\, Ridge\, 20680\, United States
CATEGORIES:Holiday/Special Occasion
ATTACH;FMTTYPE=image/jpeg:https://pier450.com/wp-content/uploads/2023/02/prez-day-lunch-1.jpg
END:VEVENT
BEGIN:VEVENT
DTSTART;TZID=UTC:20230219T173000
DTEND;TZID=UTC:20230219T193000
DTSTAMP:20260420T023736
CREATED:20230210T213158Z
LAST-MODIFIED:20230211T201030Z
UID:10000003-1676827800-1676835000@pier450.com
SUMMARY:The Ancient Traditions of Armenia
DESCRIPTION:Our upcoming Armenian Chef’s Tasting — created in partnership with the family input of our friend Sophie Blake. Sophie is Armenian-born and her mother (who will be joining us\, too) consulted with Chef Carlos to ensure our menu’s authenticity. \nWe’re so excited about this special dinner! \nSophie will also be showcasing her jewelry in The Chandlery Sunday evening and Monday for a special President’s Day lunch.
URL:https://pier450.com/event/traditions-of-armenia/
LOCATION:Pier450\, 48342 Wynne Road\, Ridge\, 20680\, United States
CATEGORIES:Chef's Tastings
ATTACH;FMTTYPE=image/jpeg:https://pier450.com/wp-content/uploads/2023/02/armenia.jpg
END:VEVENT
END:VCALENDAR