BEGIN:VCALENDAR
VERSION:2.0
PRODID:-//Pier450 in St. Mary&#039;s County, MD | Boutique Motel, Restaurant and Beach - ECPv6.15.20//NONSGML v1.0//EN
CALSCALE:GREGORIAN
METHOD:PUBLISH
X-ORIGINAL-URL:https://pier450.com
X-WR-CALDESC:Events for Pier450 in St. Mary&#039;s County, MD | Boutique Motel, Restaurant and Beach
REFRESH-INTERVAL;VALUE=DURATION:PT1H
X-Robots-Tag:noindex
X-PUBLISHED-TTL:PT1H
BEGIN:VTIMEZONE
TZID:America/New_York
BEGIN:DAYLIGHT
TZOFFSETFROM:-0500
TZOFFSETTO:-0400
TZNAME:EDT
DTSTART:20230312T070000
END:DAYLIGHT
BEGIN:STANDARD
TZOFFSETFROM:-0400
TZOFFSETTO:-0500
TZNAME:EST
DTSTART:20231105T060000
END:STANDARD
BEGIN:DAYLIGHT
TZOFFSETFROM:-0500
TZOFFSETTO:-0400
TZNAME:EDT
DTSTART:20240310T070000
END:DAYLIGHT
BEGIN:STANDARD
TZOFFSETFROM:-0400
TZOFFSETTO:-0500
TZNAME:EST
DTSTART:20241103T060000
END:STANDARD
BEGIN:DAYLIGHT
TZOFFSETFROM:-0500
TZOFFSETTO:-0400
TZNAME:EDT
DTSTART:20250309T070000
END:DAYLIGHT
BEGIN:STANDARD
TZOFFSETFROM:-0400
TZOFFSETTO:-0500
TZNAME:EST
DTSTART:20251102T060000
END:STANDARD
END:VTIMEZONE
BEGIN:VTIMEZONE
TZID:UTC
BEGIN:STANDARD
TZOFFSETFROM:+0000
TZOFFSETTO:+0000
TZNAME:UTC
DTSTART:20230101T000000
END:STANDARD
END:VTIMEZONE
BEGIN:VEVENT
DTSTART;TZID=America/New_York:20240905T180000
DTEND;TZID=America/New_York:20240905T190000
DTSTAMP:20260420T162137
CREATED:20240819T165454Z
LAST-MODIFIED:20240917T231255Z
UID:10001007-1725559200-1725562800@pier450.com
SUMMARY:Mixology with Emily & James
DESCRIPTION:Registration
URL:https://pier450.com/event/mixology-with-emily-james/2024-09-05/
LOCATION:Pier450\, 48342 Wynne Road\, Ridge\, 20680\, United States
CATEGORIES:Activities
ATTACH;FMTTYPE=image/jpeg:https://pier450.com/wp-content/uploads/2024/08/boozy.jpg
END:VEVENT
BEGIN:VEVENT
DTSTART;TZID=America/New_York:20240912T180000
DTEND;TZID=America/New_York:20240912T190000
DTSTAMP:20260420T162137
CREATED:20240819T165454Z
LAST-MODIFIED:20240917T231255Z
UID:10001008-1726164000-1726167600@pier450.com
SUMMARY:Mixology with Emily & James
DESCRIPTION:Registration
URL:https://pier450.com/event/mixology-with-emily-james/2024-09-12/
LOCATION:Pier450\, 48342 Wynne Road\, Ridge\, 20680\, United States
CATEGORIES:Activities
ATTACH;FMTTYPE=image/jpeg:https://pier450.com/wp-content/uploads/2024/08/boozy.jpg
END:VEVENT
BEGIN:VEVENT
DTSTART;TZID=UTC:20240914T090000
DTEND;TZID=UTC:20240914T120000
DTSTAMP:20260420T162137
CREATED:20240911T141847Z
LAST-MODIFIED:20240911T162515Z
UID:10001020-1726304400-1726315200@pier450.com
SUMMARY:Tag Sale! Vintage art\, furniture\, jewelry\, decor and more
DESCRIPTION:Vintage jewelry\, art\, furniture and decor! Outside at Pier450 this weekend. Fabulous finds\, even more fabulous prices.
URL:https://pier450.com/event/tag-sale/2024-09-14/
LOCATION:Pier450\, 48342 Wynne Road\, Ridge\, 20680\, United States
CATEGORIES:Activities
ATTACH;FMTTYPE=image/jpeg:https://pier450.com/wp-content/uploads/2024/09/tag-sale.jpg
END:VEVENT
BEGIN:VEVENT
DTSTART;TZID=UTC:20240915T090000
DTEND;TZID=UTC:20240915T120000
DTSTAMP:20260420T162137
CREATED:20240911T141847Z
LAST-MODIFIED:20240911T162515Z
UID:10001021-1726390800-1726401600@pier450.com
SUMMARY:Tag Sale! Vintage art\, furniture\, jewelry\, decor and more
DESCRIPTION:Vintage jewelry\, art\, furniture and decor! Outside at Pier450 this weekend. Fabulous finds\, even more fabulous prices.
URL:https://pier450.com/event/tag-sale/2024-09-15/
LOCATION:Pier450\, 48342 Wynne Road\, Ridge\, 20680\, United States
CATEGORIES:Activities
ATTACH;FMTTYPE=image/jpeg:https://pier450.com/wp-content/uploads/2024/09/tag-sale.jpg
END:VEVENT
BEGIN:VEVENT
DTSTART;TZID=America/New_York:20240919T180000
DTEND;TZID=America/New_York:20240919T190000
DTSTAMP:20260420T162137
CREATED:20240819T165454Z
LAST-MODIFIED:20240917T231255Z
UID:10001009-1726768800-1726772400@pier450.com
SUMMARY:Mixology with Emily & James
DESCRIPTION:Registration
URL:https://pier450.com/event/mixology-with-emily-james/2024-09-19/
LOCATION:Pier450\, 48342 Wynne Road\, Ridge\, 20680\, United States
CATEGORIES:Activities
ATTACH;FMTTYPE=image/jpeg:https://pier450.com/wp-content/uploads/2024/08/boozy.jpg
END:VEVENT
BEGIN:VEVENT
DTSTART;TZID=UTC:20240921T110000
DTEND;TZID=UTC:20240921T123000
DTSTAMP:20260420T162137
CREATED:20240903T013609Z
LAST-MODIFIED:20240917T231557Z
UID:10001013-1726916400-1726921800@pier450.com
SUMMARY:Dried Terrarium Building Workshop
DESCRIPTION:Registration
URL:https://pier450.com/event/dried-terrarium-workshop/
LOCATION:Pier450\, 48342 Wynne Road\, Ridge\, 20680\, United States
CATEGORIES:Activities
ATTACH;FMTTYPE=image/jpeg:https://pier450.com/wp-content/uploads/2024/07/terrarium-featured.jpg
END:VEVENT
BEGIN:VEVENT
DTSTART;TZID=America/New_York:20240926T180000
DTEND;TZID=America/New_York:20240926T190000
DTSTAMP:20260420T162137
CREATED:20240819T165454Z
LAST-MODIFIED:20240917T231255Z
UID:10001010-1727373600-1727377200@pier450.com
SUMMARY:Mixology with Emily & James
DESCRIPTION:Registration
URL:https://pier450.com/event/mixology-with-emily-james/2024-09-26/
LOCATION:Pier450\, 48342 Wynne Road\, Ridge\, 20680\, United States
CATEGORIES:Activities
ATTACH;FMTTYPE=image/jpeg:https://pier450.com/wp-content/uploads/2024/08/boozy.jpg
END:VEVENT
BEGIN:VEVENT
DTSTART;TZID=UTC:20240928T100000
DTEND;TZID=UTC:20240928T120000
DTSTAMP:20260420T162137
CREATED:20230720T051254Z
LAST-MODIFIED:20240424T203200Z
UID:10000991-1727517600-1727524800@pier450.com
SUMMARY:Dog Days at Pier450
DESCRIPTION:
URL:https://pier450.com/event/dog-days-at-pier450/2024-09-28/
LOCATION:Pier450\, 48342 Wynne Road\, Ridge\, 20680\, United States
CATEGORIES:Activities,Other
ATTACH;FMTTYPE=image/jpeg:https://pier450.com/wp-content/uploads/2023/07/dog-days.jpg
END:VEVENT
BEGIN:VEVENT
DTSTART;TZID=UTC:20240928T110000
DTEND;TZID=UTC:20240928T130000
DTSTAMP:20260420T162137
CREATED:20240903T133619Z
LAST-MODIFIED:20240919T184216Z
UID:10001017-1727521200-1727528400@pier450.com
SUMMARY:Sauces with Chef Carlos
DESCRIPTION:Registration
URL:https://pier450.com/event/sauces-with-chef-carlos/
LOCATION:Pier450\, 48342 Wynne Road\, Ridge\, 20680\, United States
CATEGORIES:Activities
ATTACH;FMTTYPE=image/jpeg:https://pier450.com/wp-content/uploads/2024/07/sauces-featured.jpg
END:VEVENT
BEGIN:VEVENT
DTSTART;TZID=UTC:20240929T090000
DTEND;TZID=UTC:20240929T101500
DTSTAMP:20260420T162137
CREATED:20240322T171950Z
LAST-MODIFIED:20240322T173211Z
UID:10000962-1727600400-1727604900@pier450.com
SUMMARY:Hatha Vinyasa Yoga with Nancy Uma
DESCRIPTION:An exciting addition to the calendar at Pier450 — Hatha Vinyasa yoga on the beach with Nancy Uma.\n\n75 minutes of yoga\, stretching and breathing \n$30 includes a mimosa after class. \n\n\nNancy Uma Teaches a Hatha combination Vinyasa yoga practice. Traditional poses are held longer and some poses are integrated into a flow (Vinyasa). Along with the traditional poses\, she will introduce yin (long stretching ) with breathing practice. Wrapping up the class with a long-guided relaxation. She offers an intentional\, mindful practice that allows you to connect to your physical\, mental and emotional body. A balanced combination leaving the body and mind both calm and clear.
URL:https://pier450.com/event/yoga-at-pier450/2024-09-29/
LOCATION:Pier450\, 48342 Wynne Road\, Ridge\, 20680\, United States
CATEGORIES:Activities,Fitness
ATTACH;FMTTYPE=image/jpeg:https://pier450.com/wp-content/uploads/2023/09/yoga-promo-new.jpg
END:VEVENT
BEGIN:VEVENT
DTSTART;TZID=UTC:20240929T180000
DTEND;TZID=UTC:20240929T200000
DTSTAMP:20260420T162137
CREATED:20240927T132312Z
LAST-MODIFIED:20240927T132313Z
UID:10000998-1727632800-1727640000@pier450.com
SUMMARY:High Tide - An Elevated Dining Experience
DESCRIPTION:Registration MENU
URL:https://pier450.com/event/high-tide-dining-experience-2/
LOCATION:Pier450\, 48342 Wynne Road\, Ridge\, 20680\, United States
CATEGORIES:Activities,Chef's Tastings
ATTACH;FMTTYPE=image/jpeg:https://pier450.com/wp-content/uploads/2024/07/high-tides.jpg
END:VEVENT
END:VCALENDAR