BEGIN:VCALENDAR
VERSION:2.0
PRODID:-//Pier450 in St. Mary&#039;s County, MD | Boutique Motel, Restaurant and Beach - ECPv6.15.20//NONSGML v1.0//EN
CALSCALE:GREGORIAN
METHOD:PUBLISH
X-ORIGINAL-URL:https://pier450.com
X-WR-CALDESC:Events for Pier450 in St. Mary&#039;s County, MD | Boutique Motel, Restaurant and Beach
REFRESH-INTERVAL;VALUE=DURATION:PT1H
X-Robots-Tag:noindex
X-PUBLISHED-TTL:PT1H
BEGIN:VTIMEZONE
TZID:America/New_York
BEGIN:DAYLIGHT
TZOFFSETFROM:-0500
TZOFFSETTO:-0400
TZNAME:EDT
DTSTART:20240310T070000
END:DAYLIGHT
BEGIN:STANDARD
TZOFFSETFROM:-0400
TZOFFSETTO:-0500
TZNAME:EST
DTSTART:20241103T060000
END:STANDARD
BEGIN:DAYLIGHT
TZOFFSETFROM:-0500
TZOFFSETTO:-0400
TZNAME:EDT
DTSTART:20250309T070000
END:DAYLIGHT
BEGIN:STANDARD
TZOFFSETFROM:-0400
TZOFFSETTO:-0500
TZNAME:EST
DTSTART:20251102T060000
END:STANDARD
BEGIN:DAYLIGHT
TZOFFSETFROM:-0500
TZOFFSETTO:-0400
TZNAME:EDT
DTSTART:20260308T070000
END:DAYLIGHT
BEGIN:STANDARD
TZOFFSETFROM:-0400
TZOFFSETTO:-0500
TZNAME:EST
DTSTART:20261101T060000
END:STANDARD
END:VTIMEZONE
BEGIN:VTIMEZONE
TZID:UTC
BEGIN:STANDARD
TZOFFSETFROM:+0000
TZOFFSETTO:+0000
TZNAME:UTC
DTSTART:20240101T000000
END:STANDARD
END:VTIMEZONE
BEGIN:VEVENT
DTSTART;TZID=America/New_York:20250504T150000
DTEND;TZID=America/New_York:20250504T170000
DTSTAMP:20260420T030410
CREATED:20250409T153755Z
LAST-MODIFIED:20250501T173953Z
UID:10001080-1746370800-1746378000@pier450.com
SUMMARY:Mind > Blown: Second Circle Acting Technique for Self-Awareness and Better Living
DESCRIPTION:Dr. Diego Villada\nMFA Assistant Professor of Theatre\, Dance and Performance Studies at St. Mary’s College of Maryland \nSunday May 4\n3-5 pm (includes an hour-long talk plus a reception with a glass of wine and light snacks) \n \n \nRegister Here\n  \nlunch or dinner reservations
URL:https://pier450.com/event/mind-blown-second-circle-acting-technique-for-self-awareness-and-better-living/
LOCATION:Pier450\, 48342 Wynne Road\, Ridge\, 20680\, United States
CATEGORIES:Speaker Series
ATTACH;FMTTYPE=image/jpeg:https://pier450.com/wp-content/uploads/2025/04/Villada-headshot.jpg
END:VEVENT
BEGIN:VEVENT
DTSTART;TZID=UTC:20250504T180000
DTEND;TZID=UTC:20250504T200000
DTSTAMP:20260420T030410
CREATED:20250317T183327Z
LAST-MODIFIED:20250318T143203Z
UID:10000987-1746381600-1746388800@pier450.com
SUMMARY:Sunset Cruises with Captain Phil
DESCRIPTION:Explore Smith Creek and the St. Mary’s and Potomac Rivers at sunset with the incomparable Captain Phil. Fun and informative — with stunning views. \nBOOK YOUR CRUISE
URL:https://pier450.com/event/sunset-cruises-with-captain-phil-2025/2025-05-04/
LOCATION:Pier450\, 48342 Wynne Road\, Ridge\, 20680\, United States
CATEGORIES:Activities
ATTACH;FMTTYPE=image/jpeg:https://pier450.com/wp-content/uploads/2024/03/sunset-cruises-at-p450.jpg
END:VEVENT
BEGIN:VEVENT
DTSTART;TZID=UTC:20250509T193000
DTEND;TZID=UTC:20250509T223000
DTSTAMP:20260420T030410
CREATED:20250116T192055Z
LAST-MODIFIED:20250422T203033Z
UID:10001044-1746819000-1746829800@pier450.com
SUMMARY:College Night! Celebrate on the Beach
DESCRIPTION:Join us for Dinner!
URL:https://pier450.com/event/college-night/
LOCATION:Pier450\, 48342 Wynne Road\, Ridge\, 20680\, United States
CATEGORIES:Activities
ATTACH;FMTTYPE=image/jpeg:https://pier450.com/wp-content/uploads/2025/01/college-night-featured.jpg
END:VEVENT
BEGIN:VEVENT
DTSTART;TZID=America/New_York:20250518T150000
DTEND;TZID=America/New_York:20250518T170000
DTSTAMP:20260420T030410
CREATED:20250409T160527Z
LAST-MODIFIED:20250502T174819Z
UID:10001081-1747580400-1747587600@pier450.com
SUMMARY:Mind > Blown: Pax River — 8 Decades in 60 Minutes
DESCRIPTION:The History of Patuxent Naval Air Station\nwith US Navy Engineer and author of several books on the history of Naval Air Station Patuxent River Robert Tourville\nSunday May 18\n3-5 pm (includes an hour-long talk plus a reception with a glass of wine and light snacks) \nBooks from the author \nIncludes a one-hour talk and an hour-long reception with the speaker\, with snacks and a glass of wine. Join us for lunch or dinner before or afterwards. Reservations \nRegister Here
URL:https://pier450.com/event/mind-blown-pax-river-8-decades-in-60-minutes/
LOCATION:Pier450\, 48342 Wynne Road\, Ridge\, 20680\, United States
CATEGORIES:Speaker Series
ATTACH;FMTTYPE=image/png:https://pier450.com/wp-content/uploads/2025/04/Screenshot-2025-04-09-at-12.02.16-PM.png
END:VEVENT
END:VCALENDAR