BEGIN:VCALENDAR
VERSION:2.0
PRODID:-//Pier450 in St. Mary&#039;s County, MD | Boutique Motel, Restaurant and Beach - ECPv6.15.20//NONSGML v1.0//EN
CALSCALE:GREGORIAN
METHOD:PUBLISH
X-ORIGINAL-URL:https://pier450.com
X-WR-CALDESC:Events for Pier450 in St. Mary&#039;s County, MD | Boutique Motel, Restaurant and Beach
REFRESH-INTERVAL;VALUE=DURATION:PT1H
X-Robots-Tag:noindex
X-PUBLISHED-TTL:PT1H
BEGIN:VTIMEZONE
TZID:UTC
BEGIN:STANDARD
TZOFFSETFROM:+0000
TZOFFSETTO:+0000
TZNAME:UTC
DTSTART:20240101T000000
END:STANDARD
END:VTIMEZONE
BEGIN:VEVENT
DTSTART;TZID=UTC:20250601T181500
DTEND;TZID=UTC:20250601T201500
DTSTAMP:20260420T011501
CREATED:20250317T183327Z
LAST-MODIFIED:20250318T143203Z
UID:10001072-1748801700-1748808900@pier450.com
SUMMARY:Sunset Cruises with Captain Phil
DESCRIPTION:Explore Smith Creek and the St. Mary’s and Potomac Rivers at sunset with the incomparable Captain Phil. Fun and informative — with stunning views. \nBOOK YOUR CRUISE
URL:https://pier450.com/event/sunset-cruises-with-captain-phil-2025/2025-06-01/
LOCATION:Pier450\, 48342 Wynne Road\, Ridge\, 20680\, United States
CATEGORIES:Activities
ATTACH;FMTTYPE=image/jpeg:https://pier450.com/wp-content/uploads/2024/03/sunset-cruises-at-p450.jpg
END:VEVENT
BEGIN:VEVENT
DTSTART;TZID=UTC:20250615T100000
DTEND;TZID=UTC:20250615T210000
DTSTAMP:20260420T011501
CREATED:20250601T195326Z
LAST-MODIFIED:20250602T153702Z
UID:10000023-1749981600-1750021200@pier450.com
SUMMARY:Celebrate Father's Day with Us!
DESCRIPTION: 
URL:https://pier450.com/event/fathers-day/
LOCATION:Pier450\, 48342 Wynne Road\, Ridge\, 20680\, United States
CATEGORIES:Activities,Holiday/Special Occasion
ATTACH;FMTTYPE=image/jpeg:https://pier450.com/wp-content/uploads/2023/06/fathers-day-at-p450.jpg
END:VEVENT
END:VCALENDAR