BEGIN:VCALENDAR
VERSION:2.0
PRODID:-//Pier450 in St. Mary&#039;s County, MD | Boutique Motel, Restaurant and Beach - ECPv6.15.20//NONSGML v1.0//EN
CALSCALE:GREGORIAN
METHOD:PUBLISH
X-ORIGINAL-URL:https://pier450.com
X-WR-CALDESC:Events for Pier450 in St. Mary&#039;s County, MD | Boutique Motel, Restaurant and Beach
REFRESH-INTERVAL;VALUE=DURATION:PT1H
X-Robots-Tag:noindex
X-PUBLISHED-TTL:PT1H
BEGIN:VTIMEZONE
TZID:UTC
BEGIN:STANDARD
TZOFFSETFROM:+0000
TZOFFSETTO:+0000
TZNAME:UTC
DTSTART:20230101T000000
END:STANDARD
END:VTIMEZONE
BEGIN:VTIMEZONE
TZID:America/New_York
BEGIN:DAYLIGHT
TZOFFSETFROM:-0500
TZOFFSETTO:-0400
TZNAME:EDT
DTSTART:20230312T070000
END:DAYLIGHT
BEGIN:STANDARD
TZOFFSETFROM:-0400
TZOFFSETTO:-0500
TZNAME:EST
DTSTART:20231105T060000
END:STANDARD
BEGIN:DAYLIGHT
TZOFFSETFROM:-0500
TZOFFSETTO:-0400
TZNAME:EDT
DTSTART:20240310T070000
END:DAYLIGHT
BEGIN:STANDARD
TZOFFSETFROM:-0400
TZOFFSETTO:-0500
TZNAME:EST
DTSTART:20241103T060000
END:STANDARD
BEGIN:DAYLIGHT
TZOFFSETFROM:-0500
TZOFFSETTO:-0400
TZNAME:EDT
DTSTART:20250309T070000
END:DAYLIGHT
BEGIN:STANDARD
TZOFFSETFROM:-0400
TZOFFSETTO:-0500
TZNAME:EST
DTSTART:20251102T060000
END:STANDARD
END:VTIMEZONE
BEGIN:VEVENT
DTSTART;TZID=UTC:20240929T090000
DTEND;TZID=UTC:20240929T101500
DTSTAMP:20260420T195114
CREATED:20240322T171950Z
LAST-MODIFIED:20240322T173211Z
UID:10000962-1727600400-1727604900@pier450.com
SUMMARY:Hatha Vinyasa Yoga with Nancy Uma
DESCRIPTION:An exciting addition to the calendar at Pier450 — Hatha Vinyasa yoga on the beach with Nancy Uma.\n\n75 minutes of yoga\, stretching and breathing \n$30 includes a mimosa after class. \n\n\nNancy Uma Teaches a Hatha combination Vinyasa yoga practice. Traditional poses are held longer and some poses are integrated into a flow (Vinyasa). Along with the traditional poses\, she will introduce yin (long stretching ) with breathing practice. Wrapping up the class with a long-guided relaxation. She offers an intentional\, mindful practice that allows you to connect to your physical\, mental and emotional body. A balanced combination leaving the body and mind both calm and clear.
URL:https://pier450.com/event/yoga-at-pier450/2024-09-29/
LOCATION:Pier450\, 48342 Wynne Road\, Ridge\, 20680\, United States
CATEGORIES:Activities,Fitness
ATTACH;FMTTYPE=image/jpeg:https://pier450.com/wp-content/uploads/2023/09/yoga-promo-new.jpg
END:VEVENT
BEGIN:VEVENT
DTSTART;TZID=UTC:20240929T180000
DTEND;TZID=UTC:20240929T200000
DTSTAMP:20260420T195114
CREATED:20240927T132312Z
LAST-MODIFIED:20240927T132313Z
UID:10000998-1727632800-1727640000@pier450.com
SUMMARY:High Tide - An Elevated Dining Experience
DESCRIPTION:Registration MENU
URL:https://pier450.com/event/high-tide-dining-experience-2/
LOCATION:Pier450\, 48342 Wynne Road\, Ridge\, 20680\, United States
CATEGORIES:Activities,Chef's Tastings
ATTACH;FMTTYPE=image/jpeg:https://pier450.com/wp-content/uploads/2024/07/high-tides.jpg
END:VEVENT
BEGIN:VEVENT
DTSTART;TZID=America/New_York:20241003T180000
DTEND;TZID=America/New_York:20241003T190000
DTSTAMP:20260420T195114
CREATED:20240819T165454Z
LAST-MODIFIED:20240917T231255Z
UID:10001011-1727978400-1727982000@pier450.com
SUMMARY:Mixology with Emily & James
DESCRIPTION:Registration
URL:https://pier450.com/event/mixology-with-emily-james/2024-10-03/
LOCATION:Pier450\, 48342 Wynne Road\, Ridge\, 20680\, United States
CATEGORIES:Activities
ATTACH;FMTTYPE=image/jpeg:https://pier450.com/wp-content/uploads/2024/08/boozy.jpg
END:VEVENT
END:VCALENDAR