BEGIN:VCALENDAR
VERSION:2.0
PRODID:-//Pier450 in St. Mary&#039;s County, MD | Boutique Motel, Restaurant and Beach - ECPv6.15.20//NONSGML v1.0//EN
CALSCALE:GREGORIAN
METHOD:PUBLISH
X-WR-CALNAME:Pier450 in St. Mary&#039;s County, MD | Boutique Motel, Restaurant and Beach
X-ORIGINAL-URL:https://pier450.com
X-WR-CALDESC:Events for Pier450 in St. Mary&#039;s County, MD | Boutique Motel, Restaurant and Beach
REFRESH-INTERVAL;VALUE=DURATION:PT1H
X-Robots-Tag:noindex
X-PUBLISHED-TTL:PT1H
BEGIN:VTIMEZONE
TZID:America/New_York
BEGIN:DAYLIGHT
TZOFFSETFROM:-0500
TZOFFSETTO:-0400
TZNAME:EDT
DTSTART:20240310T070000
END:DAYLIGHT
BEGIN:STANDARD
TZOFFSETFROM:-0400
TZOFFSETTO:-0500
TZNAME:EST
DTSTART:20241103T060000
END:STANDARD
BEGIN:DAYLIGHT
TZOFFSETFROM:-0500
TZOFFSETTO:-0400
TZNAME:EDT
DTSTART:20250309T070000
END:DAYLIGHT
BEGIN:STANDARD
TZOFFSETFROM:-0400
TZOFFSETTO:-0500
TZNAME:EST
DTSTART:20251102T060000
END:STANDARD
BEGIN:DAYLIGHT
TZOFFSETFROM:-0500
TZOFFSETTO:-0400
TZNAME:EDT
DTSTART:20260308T070000
END:DAYLIGHT
BEGIN:STANDARD
TZOFFSETFROM:-0400
TZOFFSETTO:-0500
TZNAME:EST
DTSTART:20261101T060000
END:STANDARD
END:VTIMEZONE
BEGIN:VEVENT
DTSTART;TZID=America/New_York:20250323T140000
DTEND;TZID=America/New_York:20250323T160000
DTSTAMP:20260420T082441
CREATED:20250211T211440Z
LAST-MODIFIED:20250214T160806Z
UID:10001067-1742738400-1742745600@pier450.com
SUMMARY:Mind > Blown: A Speaker Series at Pier450
DESCRIPTION:March 23: Shipwrecks & Underwater Cities: A Primer on Underwater Archaeology \nWith John L. Seidel\, PhD\nExecutive Director/CEO\nHistoric St. Mary’s City Commission \n$75 for the series (6 events) \nRegister Online \nDr. Seidel is the CEO of the Historic St. Mary’s City\, in St. Mary’s City\, Maryland. He received his MAs and a PhD from the University of Pennsylvania\, after completing his undergraduate studies at Drew University. Dr. Seidel grew up in the Middle East and has lived or worked in nine countries. His academic research includes work in the Near East\, investigations of the ancient and modern Maya (Guatemala and Belize)\, marine research conducted for the U.S. National Park Service\, and terrestrial and marine archaeology throughout the Eastern U.S. He has taught at Rutgers University\, the University of Maryland College Park\, Washington College\, and St. Mary’s College of Maryland. In the private sector\, he has conducted marine investigations from New England to the Gulf of Mexico. He has published more than 80 articles\, book chapters\, and research monographs\, and he actively lectures to public and professional groups. \nDespite Dr. Seidel’s wide-ranging geographic experience\, his real passion is the Chesapeake region during the 17th and 18th. His current position allows him to explore that interest at one of the country’s premier historic 17th C. sites. The Historic St. Mary’s City Commission is an independent state agency\, an 835-acre living history and archaeology museum at the site of Maryland’s first capital (1634-1695). Building on decades of cutting-edge research\, the site includes recreated structures in the historic town center\, a Woodland Indian hamlet\, a tall ship\, and a tobacco plantation\, all staffed by costumed or uniformed interpreters who help visitors understand the stories of Maryland’s history. Ongoing archaeological excavations continue to reveal new information about life in the past\, and a new visitors center\, the Maryland Heritage Interpretive Center\, will come online in 2025. Since its inception\, the agency has identified more than 300 archaeological sites within the St. Mary’s City National Historic Landmark (NHL) and curates more than 6.5 million artifacts representing millennia of human history.
URL:https://pier450.com/event/mind-blown-a-speaker-series-john-seidel/
LOCATION:Pier450\, 48342 Wynne Road\, Ridge\, 20680\, United States
CATEGORIES:Speaker Series
ATTACH;FMTTYPE=image/jpeg:https://pier450.com/wp-content/uploads/2025/02/underwater.jpg
END:VEVENT
END:VCALENDAR