BEGIN:VCALENDAR
VERSION:2.0
PRODID:-//Pier450 in St. Mary&#039;s County, MD | Boutique Motel, Restaurant and Beach - ECPv6.15.20//NONSGML v1.0//EN
CALSCALE:GREGORIAN
METHOD:PUBLISH
X-WR-CALNAME:Pier450 in St. Mary&#039;s County, MD | Boutique Motel, Restaurant and Beach
X-ORIGINAL-URL:https://pier450.com
X-WR-CALDESC:Events for Pier450 in St. Mary&#039;s County, MD | Boutique Motel, Restaurant and Beach
REFRESH-INTERVAL;VALUE=DURATION:PT1H
X-Robots-Tag:noindex
X-PUBLISHED-TTL:PT1H
BEGIN:VTIMEZONE
TZID:UTC
BEGIN:STANDARD
TZOFFSETFROM:+0000
TZOFFSETTO:+0000
TZNAME:UTC
DTSTART:20240101T000000
END:STANDARD
END:VTIMEZONE
BEGIN:VEVENT
DTSTART;TZID=UTC:20250706T183000
DTEND;TZID=UTC:20250706T203000
DTSTAMP:20260420T030242
CREATED:20250317T183327Z
LAST-MODIFIED:20250318T143203Z
UID:10001073-1751826600-1751833800@pier450.com
SUMMARY:Sunset Cruises with Captain Phil
DESCRIPTION:Explore Smith Creek and the St. Mary’s and Potomac Rivers at sunset with the incomparable Captain Phil. Fun and informative — with stunning views. \nBOOK YOUR CRUISE
URL:https://pier450.com/event/sunset-cruises-with-captain-phil-2025/2025-07-06/
LOCATION:Pier450\, 48342 Wynne Road\, Ridge\, 20680\, United States
CATEGORIES:Activities
ATTACH;FMTTYPE=image/jpeg:https://pier450.com/wp-content/uploads/2024/03/sunset-cruises-at-p450.jpg
END:VEVENT
END:VCALENDAR