BEGIN:VCALENDAR
VERSION:2.0
PRODID:-//Pier450 in St. Mary&#039;s County, MD | Boutique Motel, Restaurant and Beach - ECPv6.15.20//NONSGML v1.0//EN
CALSCALE:GREGORIAN
METHOD:PUBLISH
X-ORIGINAL-URL:https://pier450.com
X-WR-CALDESC:Events for Pier450 in St. Mary&#039;s County, MD | Boutique Motel, Restaurant and Beach
REFRESH-INTERVAL;VALUE=DURATION:PT1H
X-Robots-Tag:noindex
X-PUBLISHED-TTL:PT1H
BEGIN:VTIMEZONE
TZID:UTC
BEGIN:STANDARD
TZOFFSETFROM:+0000
TZOFFSETTO:+0000
TZNAME:UTC
DTSTART:20240101T000000
END:STANDARD
END:VTIMEZONE
BEGIN:VTIMEZONE
TZID:America/New_York
BEGIN:DAYLIGHT
TZOFFSETFROM:-0500
TZOFFSETTO:-0400
TZNAME:EDT
DTSTART:20240310T070000
END:DAYLIGHT
BEGIN:STANDARD
TZOFFSETFROM:-0400
TZOFFSETTO:-0500
TZNAME:EST
DTSTART:20241103T060000
END:STANDARD
BEGIN:DAYLIGHT
TZOFFSETFROM:-0500
TZOFFSETTO:-0400
TZNAME:EDT
DTSTART:20250309T070000
END:DAYLIGHT
BEGIN:STANDARD
TZOFFSETFROM:-0400
TZOFFSETTO:-0500
TZNAME:EST
DTSTART:20251102T060000
END:STANDARD
BEGIN:DAYLIGHT
TZOFFSETFROM:-0500
TZOFFSETTO:-0400
TZNAME:EDT
DTSTART:20260308T070000
END:DAYLIGHT
BEGIN:STANDARD
TZOFFSETFROM:-0400
TZOFFSETTO:-0500
TZNAME:EST
DTSTART:20261101T060000
END:STANDARD
END:VTIMEZONE
BEGIN:VEVENT
DTSTART;TZID=UTC:20250817T110000
DTEND;TZID=UTC:20250817T140000
DTSTAMP:20260420T005152
CREATED:20250705T135123Z
LAST-MODIFIED:20250711T160713Z
UID:10001094-1755428400-1755439200@pier450.com
SUMMARY:Jazz Brunch at Pier450
DESCRIPTION:[vc_row css_animation=”” row_type=”row” use_row_as_full_screen_section=”no” type=”full_width” angled_section=”no” text_align=”left” background_image_as_pattern=”without_pattern”][vc_column][vc_column_text]Brunch served 10am-3pm[/vc_column_text][vc_column_text el_class=”jazz-h1″]Southern Maryland Jazz Duo\nAldous & Emma[/vc_column_text][/vc_column][/vc_row][vc_row css_animation=”” row_type=”row” use_row_as_full_screen_section=”no” type=”full_width” angled_section=”no” text_align=”left” background_image_as_pattern=”without_pattern”][vc_column width=”1/2″][vc_single_image image=”7995″ img_size=”full” qode_css_animation=””][/vc_column][vc_column width=”1/2″][vc_single_image image=”7968″ img_size=”full” qode_css_animation=””][/vc_column][/vc_row]
URL:https://pier450.com/event/jazz-brunch-at-pier450/2025-08-17/
LOCATION:Pier450\, 48342 Wynne Road\, Ridge\, 20680\, United States
CATEGORIES:Activities
ATTACH;FMTTYPE=image/jpeg:https://pier450.com/wp-content/uploads/2025/07/sunday-jazz.jpg
END:VEVENT
BEGIN:VEVENT
DTSTART;TZID=America/New_York:20250823T080000
DTEND;TZID=America/New_York:20250823T140000
DTSTAMP:20260420T005152
CREATED:20250731T182301Z
LAST-MODIFIED:20250731T200915Z
UID:10001116-1755936000-1755957600@pier450.com
SUMMARY:450 Flea Market
DESCRIPTION:Love the design aesthetic at Pier450 and Scotland Yards (Scotland\, MD)? That’s the handiwork of Peggy and our designer Paul Haynes. And they’ve been doing some serious treasure hunting. Vintage furniture\, lamps\, crystal\, silver\, china and art. Plus vintage and new jewelry and other finds. We’re converting several spots on the property into flea market and showroom areas the third weekend in August. PASS IT ON! \nFurniture\, art\, crystal\, silver\, china\, jewelry and more! Vintage\, new and found treasures. Throughout the Pier450 campus. \nEVENT DETAILS
URL:https://pier450.com/event/450-flea-market/2025-08-23/
LOCATION:Pier450\, 48342 Wynne Road\, Ridge\, 20680\, United States
CATEGORIES:Activities
ATTACH;FMTTYPE=image/jpeg:https://pier450.com/wp-content/uploads/2025/07/Unknown-1.jpeg
END:VEVENT
END:VCALENDAR