BEGIN:VCALENDAR
VERSION:2.0
PRODID:-//Pier450 in St. Mary&#039;s County, MD | Boutique Motel, Restaurant and Beach - ECPv6.15.20//NONSGML v1.0//EN
CALSCALE:GREGORIAN
METHOD:PUBLISH
X-ORIGINAL-URL:https://pier450.com
X-WR-CALDESC:Events for Pier450 in St. Mary&#039;s County, MD | Boutique Motel, Restaurant and Beach
REFRESH-INTERVAL;VALUE=DURATION:PT1H
X-Robots-Tag:noindex
X-PUBLISHED-TTL:PT1H
BEGIN:VTIMEZONE
TZID:UTC
BEGIN:STANDARD
TZOFFSETFROM:+0000
TZOFFSETTO:+0000
TZNAME:UTC
DTSTART:20240101T000000
END:STANDARD
END:VTIMEZONE
BEGIN:VEVENT
DTSTART;TZID=UTC:20251005T110000
DTEND;TZID=UTC:20251005T140000
DTSTAMP:20260419T205405
CREATED:20251001T183926Z
LAST-MODIFIED:20251001T184119Z
UID:10001093-1759662000-1759672800@pier450.com
SUMMARY:Jazz Brunch at Pier450
DESCRIPTION:[vc_row css_animation=”” row_type=”row” use_row_as_full_screen_section=”no” type=”full_width” angled_section=”no” text_align=”left” background_image_as_pattern=”without_pattern”][vc_column][vc_column_text css=”” el_class=”jazz-h1″]Guitarist\nJim Stephanson[/vc_column_text][/vc_column][/vc_row][vc_row css_animation=”” row_type=”row” use_row_as_full_screen_section=”no” type=”full_width” angled_section=”no” text_align=”left” background_image_as_pattern=”without_pattern”][vc_column width=”1/2″][vc_single_image image=”7995″ img_size=”full” css=”” qode_css_animation=””][/vc_column][vc_column width=”1/2″][vc_single_image image=”8383″ img_size=”full” css=”” qode_css_animation=””][/vc_column][/vc_row]
URL:https://pier450.com/event/jazz-brunch-at-pier450-5/
LOCATION:Pier450\, 48342 Wynne Road\, Ridge\, 20680\, United States
CATEGORIES:Activities
ATTACH;FMTTYPE=image/jpeg:https://pier450.com/wp-content/uploads/2025/07/jazz-brunch-pier450.jpg
END:VEVENT
BEGIN:VEVENT
DTSTART;TZID=UTC:20251005T164500
DTEND;TZID=UTC:20251005T183000
DTSTAMP:20260419T205405
CREATED:20250905T194137Z
LAST-MODIFIED:20250905T194137Z
UID:10001076-1759682700-1759689000@pier450.com
SUMMARY:Sunset Cruises with Captain Phil
DESCRIPTION:Explore Smith Creek and the St. Mary’s and Potomac Rivers at sunset with the incomparable Captain Phil. Fun and informative — with stunning views. \nBOOK YOUR CRUISE
URL:https://pier450.com/event/sunset-cruises-with-captain-phil-2025-2/
LOCATION:Pier450\, 48342 Wynne Road\, Ridge\, 20680\, United States
CATEGORIES:Activities
ATTACH;FMTTYPE=image/jpeg:https://pier450.com/wp-content/uploads/2024/03/sunset-cruises-at-p450.jpg
END:VEVENT
BEGIN:VEVENT
DTSTART;TZID=UTC:20251005T180000
DTEND;TZID=UTC:20251005T200000
DTSTAMP:20260419T205405
CREATED:20250909T183259Z
LAST-MODIFIED:20250909T183259Z
UID:10001118-1759687200-1759694400@pier450.com
SUMMARY:Chef's Tasting Dinner – South America
DESCRIPTION:
URL:https://pier450.com/event/chefs-tasting-dinner-south-america/
LOCATION:Pier450\, 48342 Wynne Road\, Ridge\, 20680\, United States
CATEGORIES:Chef's Tastings
ATTACH;FMTTYPE=image/jpeg:https://pier450.com/wp-content/uploads/2025/09/south-am.jpg
END:VEVENT
END:VCALENDAR