BEGIN:VCALENDAR
VERSION:2.0
PRODID:-//Pier450 in St. Mary&#039;s County, MD | Boutique Motel, Restaurant and Beach - ECPv6.15.20//NONSGML v1.0//EN
CALSCALE:GREGORIAN
METHOD:PUBLISH
X-ORIGINAL-URL:https://pier450.com
X-WR-CALDESC:Events for Pier450 in St. Mary&#039;s County, MD | Boutique Motel, Restaurant and Beach
REFRESH-INTERVAL;VALUE=DURATION:PT1H
X-Robots-Tag:noindex
X-PUBLISHED-TTL:PT1H
BEGIN:VTIMEZONE
TZID:UTC
BEGIN:STANDARD
TZOFFSETFROM:+0000
TZOFFSETTO:+0000
TZNAME:UTC
DTSTART:20240101T000000
END:STANDARD
END:VTIMEZONE
BEGIN:VEVENT
DTSTART;TZID=UTC:20251012T110000
DTEND;TZID=UTC:20251012T140000
DTSTAMP:20260419T205404
CREATED:20251009T170051Z
LAST-MODIFIED:20251009T170053Z
UID:10001106-1760266800-1760277600@pier450.com
SUMMARY:Jazz Brunch at Pier450
DESCRIPTION:[vc_row css_animation=”” row_type=”row” use_row_as_full_screen_section=”no” type=”full_width” angled_section=”no” text_align=”left” background_image_as_pattern=”without_pattern”][vc_column][vc_column_text css=””]Brunch served 10am-2pm[/vc_column_text][vc_column_text css=”” el_class=”jazz-h1″]Southern Maryland Jazz\nJonah Orevillo[/vc_column_text][/vc_column][/vc_row][vc_row css_animation=”” row_type=”row” use_row_as_full_screen_section=”no” type=”full_width” angled_section=”no” text_align=”left” background_image_as_pattern=”without_pattern”][vc_column width=”1/2″][vc_single_image image=”7995″ img_size=”full” qode_css_animation=””][/vc_column][vc_column width=”1/2″][vc_single_image image=”8008″ img_size=”full” qode_css_animation=””][/vc_column][/vc_row]
URL:https://pier450.com/event/jazz-brunch-at-pier450-4-2/
LOCATION:Pier450\, 48342 Wynne Road\, Ridge\, 20680\, United States
CATEGORIES:Activities
ATTACH;FMTTYPE=image/jpeg:https://pier450.com/wp-content/uploads/2025/07/sunday-jazz.jpg
END:VEVENT
BEGIN:VEVENT
DTSTART;TZID=UTC:20251018T140000
DTEND;TZID=UTC:20251018T160000
DTSTAMP:20260419T205404
CREATED:20250912T142016Z
LAST-MODIFIED:20250912T142016Z
UID:10001119-1760796000-1760803200@pier450.com
SUMMARY:A Properly Spooky and Entirely Elegant Afternoon Tea
DESCRIPTION:Register Here
URL:https://pier450.com/event/october-tea/
LOCATION:Pier450\, 48342 Wynne Road\, Ridge\, 20680\, United States
CATEGORIES:Activities,Holiday/Special Occasion
ATTACH;FMTTYPE=image/jpeg:https://pier450.com/wp-content/uploads/2025/09/oct-tea.jpg
END:VEVENT
END:VCALENDAR