BEGIN:VCALENDAR
VERSION:2.0
PRODID:-//Pier450 in St. Mary&#039;s County, MD | Boutique Motel, Restaurant and Beach - ECPv6.15.20//NONSGML v1.0//EN
CALSCALE:GREGORIAN
METHOD:PUBLISH
X-ORIGINAL-URL:https://pier450.com
X-WR-CALDESC:Events for Pier450 in St. Mary&#039;s County, MD | Boutique Motel, Restaurant and Beach
REFRESH-INTERVAL;VALUE=DURATION:PT1H
X-Robots-Tag:noindex
X-PUBLISHED-TTL:PT1H
BEGIN:VTIMEZONE
TZID:UTC
BEGIN:STANDARD
TZOFFSETFROM:+0000
TZOFFSETTO:+0000
TZNAME:UTC
DTSTART:20240101T000000
END:STANDARD
END:VTIMEZONE
BEGIN:VEVENT
DTSTART;TZID=UTC:20251109T160000
DTEND;TZID=UTC:20251109T200000
DTSTAMP:20260419T205410
CREATED:20250923T235905Z
LAST-MODIFIED:20251027T124939Z
UID:10001122-1762704000-1762718400@pier450.com
SUMMARY:Celebrity Guest Chef Donnie Hammett
DESCRIPTION:[vc_row css_animation=”” row_type=”row” use_row_as_full_screen_section=”no” type=”full_width” angled_section=”no” text_align=”left” background_image_as_pattern=”without_pattern”][vc_column][vc_column_text css=””][/vc_column_text][/vc_column][/vc_row]
URL:https://pier450.com/event/donnie-hammett/
LOCATION:Pier450\, 48342 Wynne Road\, Ridge\, 20680\, United States
CATEGORIES:Activities,Chef's Tastings
ATTACH;FMTTYPE=image/jpeg:https://pier450.com/wp-content/uploads/2025/10/donne.jpg
END:VEVENT
BEGIN:VEVENT
DTSTART;TZID=UTC:20251114T173000
DTEND;TZID=UTC:20251114T193000
DTSTAMP:20260419T205410
CREATED:20251103T220925Z
LAST-MODIFIED:20251103T220926Z
UID:10001126-1763141400-1763148600@pier450.com
SUMMARY:Piano Bar at Pier450
DESCRIPTION:[vc_row css_animation=”” row_type=”row” use_row_as_full_screen_section=”no” type=”full_width” angled_section=”no” text_align=”left” background_image_as_pattern=”without_pattern”][vc_column][vc_column_text css=””][/vc_column_text][/vc_column][/vc_row]
URL:https://pier450.com/event/piano-bar-at-pier450-2/
LOCATION:Pier450\, 48342 Wynne Road\, Ridge\, 20680\, United States
CATEGORIES:Activities
ATTACH;FMTTYPE=image/jpeg:https://pier450.com/wp-content/uploads/2025/10/piano.jpg
END:VEVENT
BEGIN:VEVENT
DTSTART;TZID=UTC:20251115T140000
DTEND;TZID=UTC:20251115T160000
DTSTAMP:20260419T205410
CREATED:20250912T142242Z
LAST-MODIFIED:20250912T142242Z
UID:10001120-1763215200-1763222400@pier450.com
SUMMARY:A Bountiful (and Beautiful!) Harvest Afternoon Tea
DESCRIPTION:Register Here
URL:https://pier450.com/event/november-tea/
LOCATION:Pier450\, 48342 Wynne Road\, Ridge\, 20680\, United States
CATEGORIES:Activities,Holiday/Special Occasion
ATTACH;FMTTYPE=image/jpeg:https://pier450.com/wp-content/uploads/2025/09/nov-tea.jpg
END:VEVENT
END:VCALENDAR