BEGIN:VCALENDAR
VERSION:2.0
PRODID:-//Pier450 in St. Mary&#039;s County, MD | Boutique Motel, Restaurant and Beach - ECPv6.15.20//NONSGML v1.0//EN
CALSCALE:GREGORIAN
METHOD:PUBLISH
X-WR-CALNAME:Pier450 in St. Mary&#039;s County, MD | Boutique Motel, Restaurant and Beach
X-ORIGINAL-URL:https://pier450.com
X-WR-CALDESC:Events for Pier450 in St. Mary&#039;s County, MD | Boutique Motel, Restaurant and Beach
REFRESH-INTERVAL;VALUE=DURATION:PT1H
X-Robots-Tag:noindex
X-PUBLISHED-TTL:PT1H
BEGIN:VTIMEZONE
TZID:UTC
BEGIN:STANDARD
TZOFFSETFROM:+0000
TZOFFSETTO:+0000
TZNAME:UTC
DTSTART:20240101T000000
END:STANDARD
END:VTIMEZONE
BEGIN:VEVENT
DTSTART;TZID=UTC:20251123T110000
DTEND;TZID=UTC:20251123T160000
DTSTAMP:20260419T173633
CREATED:20241123T160654Z
LAST-MODIFIED:20250916T134621Z
UID:10001039-1763895600-1763913600@pier450.com
SUMMARY:Thanksgiving Bake Sale
DESCRIPTION:
URL:https://pier450.com/event/thanksgiving-bake-sale/
LOCATION:Pier450\, 48342 Wynne Road\, Ridge\, 20680\, United States
CATEGORIES:Activities,Holiday/Special Occasion
ATTACH;FMTTYPE=image/jpeg:https://pier450.com/wp-content/uploads/2024/11/bake-featured.jpg
END:VEVENT
BEGIN:VEVENT
DTSTART;TZID=UTC:20251128T173000
DTEND;TZID=UTC:20251128T193000
DTSTAMP:20260419T173633
CREATED:20251027T124010Z
LAST-MODIFIED:20251027T124126Z
UID:10001128-1764351000-1764358200@pier450.com
SUMMARY:Piano Bar at Pier450
DESCRIPTION:[vc_row css_animation=”” row_type=”row” use_row_as_full_screen_section=”no” type=”full_width” angled_section=”no” text_align=”left” background_image_as_pattern=”without_pattern”][vc_column][vc_column_text css=””][/vc_column_text][/vc_column][/vc_row]
URL:https://pier450.com/event/piano-bar-at-pier450/2025-11-28/
LOCATION:Pier450\, 48342 Wynne Road\, Ridge\, 20680\, United States
CATEGORIES:Activities
ATTACH;FMTTYPE=image/jpeg:https://pier450.com/wp-content/uploads/2025/10/piano.jpg
END:VEVENT
END:VCALENDAR