BEGIN:VCALENDAR
VERSION:2.0
PRODID:-//Pier450 in St. Mary&#039;s County, MD | Boutique Motel, Restaurant and Beach - ECPv6.15.20//NONSGML v1.0//EN
CALSCALE:GREGORIAN
METHOD:PUBLISH
X-ORIGINAL-URL:https://pier450.com
X-WR-CALDESC:Events for Pier450 in St. Mary&#039;s County, MD | Boutique Motel, Restaurant and Beach
REFRESH-INTERVAL;VALUE=DURATION:PT1H
X-Robots-Tag:noindex
X-PUBLISHED-TTL:PT1H
BEGIN:VTIMEZONE
TZID:UTC
BEGIN:STANDARD
TZOFFSETFROM:+0000
TZOFFSETTO:+0000
TZNAME:UTC
DTSTART:20250101T000000
END:STANDARD
END:VTIMEZONE
BEGIN:VEVENT
DTSTART;TZID=UTC:20260208T150000
DTEND;TZID=UTC:20260208T170000
DTSTAMP:20260419T135907
CREATED:20260115T205816Z
LAST-MODIFIED:20260129T210057Z
UID:10000026-1770562800-1770570000@pier450.com
SUMMARY:Valentine's Day Paint Class with Freedom Palette
DESCRIPTION:[vc_row css_animation=”” row_type=”row” use_row_as_full_screen_section=”no” type=”full_width” angled_section=”no” text_align=”left” background_image_as_pattern=”without_pattern”][vc_column width=”1/2″][vc_column_text css=””] \n\n\n\n\n\n\n\nValentine’s Day Paint Class with Freedom Palette\n3-5 PM\n2 hours\n$80.00 per couple \n\n\n\n\n\nPrice includes two pre-sketched canvases with all materials\n\n\n\n\nhttps://freedompalette.com/book-a-class\n[/vc_column_text][/vc_column][vc_column width=”1/2″][vc_single_image image=”8655″ img_size=”full” css=”” qode_css_animation=””][/vc_column][/vc_row]
URL:https://pier450.com/event/freedom-palette/
LOCATION:Pier450\, 48342 Wynne Road\, Ridge\, 20680\, United States
ATTACH;FMTTYPE=image/jpeg:https://pier450.com/wp-content/uploads/2026/01/painting-class.jpg
END:VEVENT
BEGIN:VEVENT
DTSTART;TZID=UTC:20260214T160000
DTEND;TZID=UTC:20260214T210000
DTSTAMP:20260419T135907
CREATED:20260119T214120Z
LAST-MODIFIED:20260129T210519Z
UID:10000321-1771084800-1771102800@pier450.com
SUMMARY:Valentine's Day 2026
DESCRIPTION:[vc_row css_animation=”” row_type=”row” use_row_as_full_screen_section=”no” type=”full_width” angled_section=”no” text_align=”left” background_image_as_pattern=”without_pattern”][vc_column][vc_column_text css=””]\n \n[/vc_column_text][/vc_column][/vc_row]
URL:https://pier450.com/event/valentines-day/
LOCATION:Pier450\, 48342 Wynne Road\, Ridge\, 20680\, United States
CATEGORIES:Holiday/Special Occasion
ATTACH;FMTTYPE=image/jpeg:https://pier450.com/wp-content/uploads/2026/01/vday-at-p450.jpg
END:VEVENT
END:VCALENDAR