BEGIN:VCALENDAR
VERSION:2.0
PRODID:-//Pier450 in St. Mary&#039;s County, MD | Boutique Motel, Restaurant and Beach - ECPv6.15.20//NONSGML v1.0//EN
CALSCALE:GREGORIAN
METHOD:PUBLISH
X-ORIGINAL-URL:https://pier450.com
X-WR-CALDESC:Events for Pier450 in St. Mary&#039;s County, MD | Boutique Motel, Restaurant and Beach
REFRESH-INTERVAL;VALUE=DURATION:PT1H
X-Robots-Tag:noindex
X-PUBLISHED-TTL:PT1H
BEGIN:VTIMEZONE
TZID:America/New_York
BEGIN:DAYLIGHT
TZOFFSETFROM:-0500
TZOFFSETTO:-0400
TZNAME:EDT
DTSTART:20250309T070000
END:DAYLIGHT
BEGIN:STANDARD
TZOFFSETFROM:-0400
TZOFFSETTO:-0500
TZNAME:EST
DTSTART:20251102T060000
END:STANDARD
BEGIN:DAYLIGHT
TZOFFSETFROM:-0500
TZOFFSETTO:-0400
TZNAME:EDT
DTSTART:20260308T070000
END:DAYLIGHT
BEGIN:STANDARD
TZOFFSETFROM:-0400
TZOFFSETTO:-0500
TZNAME:EST
DTSTART:20261101T060000
END:STANDARD
BEGIN:DAYLIGHT
TZOFFSETFROM:-0500
TZOFFSETTO:-0400
TZNAME:EDT
DTSTART:20270314T070000
END:DAYLIGHT
BEGIN:STANDARD
TZOFFSETFROM:-0400
TZOFFSETTO:-0500
TZNAME:EST
DTSTART:20271107T060000
END:STANDARD
END:VTIMEZONE
BEGIN:VTIMEZONE
TZID:UTC
BEGIN:STANDARD
TZOFFSETFROM:+0000
TZOFFSETTO:+0000
TZNAME:UTC
DTSTART:20250101T000000
END:STANDARD
END:VTIMEZONE
BEGIN:VEVENT
DTSTART;TZID=America/New_York:20260322T150000
DTEND;TZID=America/New_York:20260322T170000
DTSTAMP:20260419T132842
CREATED:20260210T132016Z
LAST-MODIFIED:20260211T164949Z
UID:10001666-1774191600-1774198800@pier450.com
SUMMARY:Mind > Blown: Karen Anderson\, Professor of English & Director\, VOICES Reading Series
DESCRIPTION:[vc_row css_animation=”” row_type=”row” use_row_as_full_screen_section=”no” type=”full_width” angled_section=”no” text_align=”left” background_image_as_pattern=”without_pattern”][vc_column width=”1/2″][vc_single_image image=”8702″ img_size=”full” css=”” qode_css_animation=””][/vc_column][vc_column width=”1/2″][vc_column_text css=””]Karen Anderson\, Professor of English & Director\, VOICES Reading Series\, St. Mary’s College of Maryland \nRegister Here \n[/vc_column_text]\n	\n		\n			About Mind > Blown\nA 7-part speaker series covering topics both informative and fascinating. Days are definitive; specific speaker time slots will be updated as confirmed.\nMake it to one\, two\, or all seven — the package includes however many you can attend plus a reception after each with light snacks\, a glass of wine and time with the speaker. Individual sessions will be offered closer to the dates.\nSundays\, 3-5 pm — speaker 3-4 \, reception 4-5 \n\n		 \n	 [/vc_column][/vc_row]
URL:https://pier450.com/event/mind-blown-karen-anderson-professor-of-english-director-voices-reading-series/
LOCATION:Pier450\, 48342 Wynne Road\, Ridge\, 20680\, United States
CATEGORIES:Speaker Series
ATTACH;FMTTYPE=image/jpeg:https://pier450.com/wp-content/uploads/2026/02/Karen-Leona-Anderson-featured.jpg
END:VEVENT
BEGIN:VEVENT
DTSTART;TZID=UTC:20260328T140000
DTEND;TZID=UTC:20260328T160000
DTSTAMP:20260419T132842
CREATED:20260113T190956Z
LAST-MODIFIED:20260325T172216Z
UID:10001043-1774706400-1774713600@pier450.com
SUMMARY:Mad Hatter's Tea Party: NOW JUST $35!
DESCRIPTION:Register Here
URL:https://pier450.com/event/mad-hatters-tea-party/
LOCATION:Pier450\, 48342 Wynne Road\, Ridge\, 20680\, United States
CATEGORIES:Activities
ATTACH;FMTTYPE=image/jpeg:https://pier450.com/wp-content/uploads/2025/01/mad-hatter-featured.jpg
END:VEVENT
END:VCALENDAR